BEGIN:VCALENDAR
VERSION:2.0
PRODID:-//La Porte County Fairground Management and Event Center - ECPv6.13.2//NONSGML v1.0//EN
CALSCALE:GREGORIAN
METHOD:PUBLISH
X-ORIGINAL-URL:https://lpfairgrounds.com
X-WR-CALDESC:Events for La Porte County Fairground Management and Event Center
REFRESH-INTERVAL;VALUE=DURATION:PT1H
X-Robots-Tag:noindex
X-PUBLISHED-TTL:PT1H
BEGIN:VTIMEZONE
TZID:America/Chicago
BEGIN:DAYLIGHT
TZOFFSETFROM:-0600
TZOFFSETTO:-0500
TZNAME:CDT
DTSTART:20210314T080000
END:DAYLIGHT
BEGIN:STANDARD
TZOFFSETFROM:-0500
TZOFFSETTO:-0600
TZNAME:CST
DTSTART:20211107T070000
END:STANDARD
END:VTIMEZONE
BEGIN:VEVENT
DTSTART;VALUE=DATE:20210923
DTEND;VALUE=DATE:20210924
DTSTAMP:20260420T103636
CREATED:20210812T154816Z
LAST-MODIFIED:20210812T154816Z
UID:1077-1632355200-1632441599@lpfairgrounds.com
SUMMARY:ASSAD Show
DESCRIPTION:
URL:https://lpfairgrounds.com/event/assad-show-3/
END:VEVENT
BEGIN:VEVENT
DTSTART;VALUE=DATE:20210922
DTEND;VALUE=DATE:20210925
DTSTAMP:20260420T103636
CREATED:20210928T174116Z
LAST-MODIFIED:20210928T174116Z
UID:1172-1632268800-1632527999@lpfairgrounds.com
SUMMARY:UMW Craft Show
DESCRIPTION:
URL:https://lpfairgrounds.com/event/umw-craft-show/
END:VEVENT
BEGIN:VEVENT
DTSTART;VALUE=DATE:20210921
DTEND;VALUE=DATE:20210922
DTSTAMP:20260420T103636
CREATED:20210812T154802Z
LAST-MODIFIED:20210812T154802Z
UID:1076-1632182400-1632268799@lpfairgrounds.com
SUMMARY:Lend-A-Hand Event
DESCRIPTION:
URL:https://lpfairgrounds.com/event/lend-a-hand-event/
LOCATION:Community Building
END:VEVENT
BEGIN:VEVENT
DTSTART;VALUE=DATE:20210918
DTEND;VALUE=DATE:20210919
DTSTAMP:20260420T103636
CREATED:20210812T154802Z
LAST-MODIFIED:20210812T154802Z
UID:1074-1631923200-1632009599@lpfairgrounds.com
SUMMARY:Demolition Derby
DESCRIPTION:
URL:https://lpfairgrounds.com/event/demolition-derby/
END:VEVENT
BEGIN:VEVENT
DTSTART;VALUE=DATE:20210918
DTEND;VALUE=DATE:20210919
DTSTAMP:20260420T103636
CREATED:20210812T154802Z
LAST-MODIFIED:20210812T154802Z
UID:1075-1631923200-1632009599@lpfairgrounds.com
SUMMARY:7-in-1 Recycling Event
DESCRIPTION:
URL:https://lpfairgrounds.com/event/7-in-1-recycling-event/
END:VEVENT
BEGIN:VEVENT
DTSTART;VALUE=DATE:20210917
DTEND;VALUE=DATE:20210918
DTSTAMP:20260420T103636
CREATED:20210928T174116Z
LAST-MODIFIED:20210928T174116Z
UID:1171-1631836800-1631923199@lpfairgrounds.com
SUMMARY:Solid Waste
DESCRIPTION:
URL:https://lpfairgrounds.com/event/solid-waste-2/
END:VEVENT
BEGIN:VEVENT
DTSTART;VALUE=DATE:20210915
DTEND;VALUE=DATE:20210916
DTSTAMP:20260420T103636
CREATED:20210812T154802Z
LAST-MODIFIED:20210812T154802Z
UID:1073-1631664000-1631750399@lpfairgrounds.com
SUMMARY:Superintendents' Meeting
DESCRIPTION:
URL:https://lpfairgrounds.com/event/superintendents-meeting-6/
LOCATION:Small Projects A
END:VEVENT
BEGIN:VEVENT
DTSTART;TZID=America/Chicago:20210914T093000
DTEND;TZID=America/Chicago:20210914T093000
DTSTAMP:20260420T103636
CREATED:20210812T154801Z
LAST-MODIFIED:20210812T154801Z
UID:1072-1631611800-1631611800@lpfairgrounds.com
SUMMARY:County Drainage Board Meeting
DESCRIPTION:
URL:https://lpfairgrounds.com/event/county-drainage-board-meeting-7/
LOCATION:Small Projects A
END:VEVENT
BEGIN:VEVENT
DTSTART;TZID=America/Chicago:20210911T153000
DTEND;TZID=America/Chicago:20210911T153000
DTSTAMP:20260420T103636
CREATED:20210812T154747Z
LAST-MODIFIED:20210812T154747Z
UID:1070-1631374200-1631374200@lpfairgrounds.com
SUMMARY:FALL FEST ON THE FAIRGROUNDS
DESCRIPTION:Artisan & Farmers Market – Anything on Wheels Cruise In – Food – Antiques – Draft Horse Show
URL:https://lpfairgrounds.com/event/fall-fest-on-the-fairgrounds/
LOCATION:Across Grounds
END:VEVENT
BEGIN:VEVENT
DTSTART;TZID=America/Chicago:20210911T060000
DTEND;TZID=America/Chicago:20210911T060000
DTSTAMP:20260420T103636
CREATED:20210812T154747Z
LAST-MODIFIED:20210812T154747Z
UID:1071-1631340000-1631340000@lpfairgrounds.com
SUMMARY:Pioneerland Pork Chop Dinner (drive thru only)
DESCRIPTION:
URL:https://lpfairgrounds.com/event/pioneerland-pork-chop-dinner-drive-thru-only/
LOCATION:Community Building
END:VEVENT
BEGIN:VEVENT
DTSTART;VALUE=DATE:20210909
DTEND;VALUE=DATE:20210913
DTSTAMP:20260420T103636
CREATED:20210812T154747Z
LAST-MODIFIED:20210812T154747Z
UID:1069-1631145600-1631491199@lpfairgrounds.com
SUMMARY:Farm & Fancy Draft Horse Show
DESCRIPTION:
URL:https://lpfairgrounds.com/event/farm-fancy-draft-horse-show/
END:VEVENT
BEGIN:VEVENT
DTSTART;VALUE=DATE:20210905
DTEND;VALUE=DATE:20210906
DTSTAMP:20260420T103636
CREATED:20210812T154747Z
LAST-MODIFIED:20210812T154747Z
UID:1068-1630800000-1630886399@lpfairgrounds.com
SUMMARY:Indiana Pulling League Tractor Pull
DESCRIPTION:
URL:https://lpfairgrounds.com/event/indiana-pulling-league-tractor-pull/
END:VEVENT
BEGIN:VEVENT
DTSTART;VALUE=DATE:20210831
DTEND;VALUE=DATE:20210901
DTSTAMP:20260420T103636
CREATED:20210812T154746Z
LAST-MODIFIED:20210812T154746Z
UID:1067-1630368000-1630454399@lpfairgrounds.com
SUMMARY:Horse & Pony Judging
DESCRIPTION:
URL:https://lpfairgrounds.com/event/horse-pony-judging/
LOCATION:Small Projects A
END:VEVENT
BEGIN:VEVENT
DTSTART;VALUE=DATE:20210831
DTEND;VALUE=DATE:20210901
DTSTAMP:20260420T103636
CREATED:20210506T190145Z
LAST-MODIFIED:20210506T190145Z
UID:918-1630368000-1630454399@lpfairgrounds.com
SUMMARY:Horse & Pony Judging Team
DESCRIPTION:Small Projects A
URL:https://lpfairgrounds.com/event/horse-pony-judging-team-5/
LOCATION:Small Projects A
CATEGORIES:4-H
END:VEVENT
BEGIN:VEVENT
DTSTART;VALUE=DATE:20210829
DTEND;VALUE=DATE:20210830
DTSTAMP:20260420T103636
CREATED:20210506T190145Z
LAST-MODIFIED:20210812T154733Z
UID:917-1630195200-1630281599@lpfairgrounds.com
SUMMARY:Rebel Pavilion Horse Show
DESCRIPTION:
URL:https://lpfairgrounds.com/event/rebel-pavilion-horse-show-2/
CATEGORIES:Public
END:VEVENT
BEGIN:VEVENT
DTSTART;VALUE=DATE:20210828
DTEND;VALUE=DATE:20210829
DTSTAMP:20260420T103636
CREATED:20210928T174116Z
LAST-MODIFIED:20210928T174116Z
UID:1170-1630108800-1630195199@lpfairgrounds.com
SUMMARY:Rebel Horse Show
DESCRIPTION:
URL:https://lpfairgrounds.com/event/rebel-horse-show-2/
END:VEVENT
BEGIN:VEVENT
DTSTART;VALUE=DATE:20210828
DTEND;VALUE=DATE:20210829
DTSTAMP:20260420T103636
CREATED:20210506T190145Z
LAST-MODIFIED:20210506T190145Z
UID:916-1630108800-1630195199@lpfairgrounds.com
SUMMARY:Private Event
DESCRIPTION:Community Building
URL:https://lpfairgrounds.com/event/private-event-8/
LOCATION:Community Building
CATEGORIES:Private
END:VEVENT
BEGIN:VEVENT
DTSTART;TZID=America/Chicago:20210825T080000
DTEND;TZID=America/Chicago:20210825T120000
DTSTAMP:20260420T103636
CREATED:20210506T185944Z
LAST-MODIFIED:20210506T185944Z
UID:914-1629878400-1629892800@lpfairgrounds.com
SUMMARY:Private Meeting
DESCRIPTION:Small Projects A
URL:https://lpfairgrounds.com/event/private-meeting-13/
LOCATION:Small Projects A
CATEGORIES:Private
END:VEVENT
BEGIN:VEVENT
DTSTART;VALUE=DATE:20210825
DTEND;VALUE=DATE:20210826
DTSTAMP:20260420T103636
CREATED:20210506T190144Z
LAST-MODIFIED:20210506T190144Z
UID:915-1629849600-1629935999@lpfairgrounds.com
SUMMARY:Fair Board Meeting
DESCRIPTION:Small Projects A
URL:https://lpfairgrounds.com/event/fair-board-meeting-5/
LOCATION:Small Projects A
CATEGORIES:Private
END:VEVENT
BEGIN:VEVENT
DTSTART;VALUE=DATE:20210824
DTEND;VALUE=DATE:20210825
DTSTAMP:20260420T103636
CREATED:20210506T185944Z
LAST-MODIFIED:20210812T154733Z
UID:913-1629763200-1629849599@lpfairgrounds.com
SUMMARY:Horse & Pony Judging Team
DESCRIPTION:
URL:https://lpfairgrounds.com/event/horse-pony-judging-team-4/
LOCATION:Small Projects A
CATEGORIES:4-H
END:VEVENT
BEGIN:VEVENT
DTSTART;VALUE=DATE:20210821
DTEND;VALUE=DATE:20210822
DTSTAMP:20260420T103636
CREATED:20210812T154732Z
LAST-MODIFIED:20210812T154732Z
UID:1064-1629504000-1629590399@lpfairgrounds.com
SUMMARY:NIPWLS Pop Warner
DESCRIPTION:
URL:https://lpfairgrounds.com/event/nipwls-pop-warner/
END:VEVENT
BEGIN:VEVENT
DTSTART;VALUE=DATE:20210821
DTEND;VALUE=DATE:20210822
DTSTAMP:20260420T103636
CREATED:20210506T185944Z
LAST-MODIFIED:20210812T154732Z
UID:912-1629504000-1629590399@lpfairgrounds.com
SUMMARY:Relay for Life
DESCRIPTION:
URL:https://lpfairgrounds.com/event/relay-for-life/
LOCATION:Midway
CATEGORIES:Public
END:VEVENT
BEGIN:VEVENT
DTSTART;VALUE=DATE:20210820
DTEND;VALUE=DATE:20210821
DTSTAMP:20260420T103636
CREATED:20210812T154732Z
LAST-MODIFIED:20210812T154732Z
UID:1062-1629417600-1629503999@lpfairgrounds.com
SUMMARY:Goodwill Stand Down Event
DESCRIPTION:
URL:https://lpfairgrounds.com/event/goodwill-stand-down-event/
END:VEVENT
BEGIN:VEVENT
DTSTART;VALUE=DATE:20210820
DTEND;VALUE=DATE:20210821
DTSTAMP:20260420T103636
CREATED:20210506T185943Z
LAST-MODIFIED:20210928T174116Z
UID:911-1629417600-1629503999@lpfairgrounds.com
SUMMARY:Private Event
DESCRIPTION:Artisan Barn
URL:https://lpfairgrounds.com/event/private-event-7/
LOCATION:Community Building
CATEGORIES:Private
END:VEVENT
BEGIN:VEVENT
DTSTART;VALUE=DATE:20210820
DTEND;VALUE=DATE:20210821
DTSTAMP:20260420T103636
CREATED:20210506T185942Z
LAST-MODIFIED:20210506T185942Z
UID:910-1629417600-1629503999@lpfairgrounds.com
SUMMARY:Goodwill Stand Down Veterans' Event
DESCRIPTION:Vendor Row
URL:https://lpfairgrounds.com/event/goodwill-stand-down-veterans-event/
LOCATION:Vendor Row
CATEGORIES:Meetings
END:VEVENT
BEGIN:VEVENT
DTSTART;TZID=America/Chicago:20210819T200000
DTEND;TZID=America/Chicago:20210819T200000
DTSTAMP:20260420T103636
CREATED:20210928T174116Z
LAST-MODIFIED:20210928T174116Z
UID:1168-1629403200-1629403200@lpfairgrounds.com
SUMMARY:Veterans Stand Down
DESCRIPTION:
URL:https://lpfairgrounds.com/event/veterans-stand-down/
LOCATION:Commercial Building 2
END:VEVENT
BEGIN:VEVENT
DTSTART;TZID=America/Chicago:20210818T080000
DTEND;TZID=America/Chicago:20210818T120000
DTSTAMP:20260420T103636
CREATED:20210506T185929Z
LAST-MODIFIED:20210506T185929Z
UID:908-1629273600-1629288000@lpfairgrounds.com
SUMMARY:Private Meeting
DESCRIPTION:Small Projects A
URL:https://lpfairgrounds.com/event/private-meeting-12/
LOCATION:Small Projects A
CATEGORIES:Private
END:VEVENT
BEGIN:VEVENT
DTSTART;VALUE=DATE:20210818
DTEND;VALUE=DATE:20210819
DTSTAMP:20260420T103636
CREATED:20210506T185930Z
LAST-MODIFIED:20210812T154717Z
UID:909-1629244800-1629331199@lpfairgrounds.com
SUMMARY:Superintendents' Meeting
DESCRIPTION:
URL:https://lpfairgrounds.com/event/superintendents-meeting-5/
LOCATION:Small Projects A
CATEGORIES:Private
END:VEVENT
BEGIN:VEVENT
DTSTART;VALUE=DATE:20210817
DTEND;VALUE=DATE:20210818
DTSTAMP:20260420T103636
CREATED:20210506T185929Z
LAST-MODIFIED:20210812T154717Z
UID:907-1629158400-1629244799@lpfairgrounds.com
SUMMARY:Horse & Pony Judging Team
DESCRIPTION:
URL:https://lpfairgrounds.com/event/horse-pony-judging-team-3/
LOCATION:Small Projects A
CATEGORIES:4-H
END:VEVENT
BEGIN:VEVENT
DTSTART;VALUE=DATE:20210815
DTEND;VALUE=DATE:20210816
DTSTAMP:20260420T103636
CREATED:20210506T185928Z
LAST-MODIFIED:20210506T185928Z
UID:906-1628985600-1629071999@lpfairgrounds.com
SUMMARY:Fellowship Fest
DESCRIPTION:Pioneerland
URL:https://lpfairgrounds.com/event/fellowship-fest-3/
LOCATION:Pioneerland
CATEGORIES:Public
END:VEVENT
END:VCALENDAR