BEGIN:VCALENDAR
VERSION:2.0
PRODID:-//La Porte County Fairground Management and Event Center - ECPv6.13.2//NONSGML v1.0//EN
CALSCALE:GREGORIAN
METHOD:PUBLISH
X-WR-CALNAME:La Porte County Fairground Management and Event Center
X-ORIGINAL-URL:https://lpfairgrounds.com
X-WR-CALDESC:Events for La Porte County Fairground Management and Event Center
REFRESH-INTERVAL;VALUE=DURATION:PT1H
X-Robots-Tag:noindex
X-PUBLISHED-TTL:PT1H
BEGIN:VTIMEZONE
TZID:America/Chicago
BEGIN:DAYLIGHT
TZOFFSETFROM:-0600
TZOFFSETTO:-0500
TZNAME:CDT
DTSTART:20210314T080000
END:DAYLIGHT
BEGIN:STANDARD
TZOFFSETFROM:-0500
TZOFFSETTO:-0600
TZNAME:CST
DTSTART:20211107T070000
END:STANDARD
END:VTIMEZONE
BEGIN:VEVENT
DTSTART;TZID=America/Chicago:20210627T170000
DTEND;TZID=America/Chicago:20210627T190000
DTSTAMP:20260420T161819
CREATED:20210506T185333Z
LAST-MODIFIED:20210506T185333Z
UID:892-1624813200-1624820400@lpfairgrounds.com
SUMMARY:Mini Equine
DESCRIPTION:Livestock Show Arena
URL:https://lpfairgrounds.com/event/mini-equine-4/
LOCATION:Livestock Show Arena
CATEGORIES:4-H
END:VEVENT
BEGIN:VEVENT
DTSTART;VALUE=DATE:20210627
DTEND;VALUE=DATE:20210801
DTSTAMP:20260420T161819
CREATED:20210506T185334Z
LAST-MODIFIED:20210506T185334Z
UID:894-1624752000-1627775999@lpfairgrounds.com
SUMMARY:LAPORTE COUNTY AGRICULTURAL ASSOCIATIO
DESCRIPTION:PLEASE VISIT THEIR WEBSITE AT LPFAIR.COM FOR ALL THE DETAILS
URL:https://lpfairgrounds.com/event/laporte-county-agricultural-associatio/
LOCATION:Midway
CATEGORIES:La Porte County Fair
END:VEVENT
BEGIN:VEVENT
DTSTART;VALUE=DATE:20210627
DTEND;VALUE=DATE:20210628
DTSTAMP:20260420T161819
CREATED:20210506T185333Z
LAST-MODIFIED:20210506T185333Z
UID:893-1624752000-1624838399@lpfairgrounds.com
SUMMARY:Horse&Pony Clinic
DESCRIPTION:Horse & Pony Arena
URL:https://lpfairgrounds.com/event/horsepony-clinic-20/
CATEGORIES:4-H
END:VEVENT
BEGIN:VEVENT
DTSTART;TZID=America/Chicago:20210626T090000
DTEND;TZID=America/Chicago:20210626T120000
DTSTAMP:20260420T161819
CREATED:20210506T185132Z
LAST-MODIFIED:20210506T185132Z
UID:889-1624698000-1624708800@lpfairgrounds.com
SUMMARY:Goats
DESCRIPTION:Livestock Show Arena
URL:https://lpfairgrounds.com/event/goats/
LOCATION:Livestock Show Arena
CATEGORIES:4-H
END:VEVENT
BEGIN:VEVENT
DTSTART;TZID=America/Chicago:20210626T080000
DTEND;TZID=America/Chicago:20210626T120000
DTSTAMP:20260420T161819
CREATED:20210506T185332Z
LAST-MODIFIED:20210506T185332Z
UID:890-1624694400-1624708800@lpfairgrounds.com
SUMMARY:Poultry Clinic
DESCRIPTION:Outside of Poultry Barn
URL:https://lpfairgrounds.com/event/poultry-clinic-3/
CATEGORIES:4-H
END:VEVENT
BEGIN:VEVENT
DTSTART;VALUE=DATE:20210626
DTEND;VALUE=DATE:20210627
DTSTAMP:20260420T161819
CREATED:20210506T185132Z
LAST-MODIFIED:20210506T185132Z
UID:888-1624665600-1624751999@lpfairgrounds.com
SUMMARY:Queen Pageant
DESCRIPTION:Community Building
URL:https://lpfairgrounds.com/event/queen-pageant-2/
LOCATION:Community Building
CATEGORIES:Meetings
END:VEVENT
BEGIN:VEVENT
DTSTART;VALUE=DATE:20210626
DTEND;VALUE=DATE:20210627
DTSTAMP:20260420T161819
CREATED:20210506T185132Z
LAST-MODIFIED:20210506T185132Z
UID:886-1624665600-1624751999@lpfairgrounds.com
SUMMARY:Private Event
DESCRIPTION:Artisan Barn
URL:https://lpfairgrounds.com/event/private-event-4/
LOCATION:Artisan Barn
CATEGORIES:Private
END:VEVENT
BEGIN:VEVENT
DTSTART;TZID=America/Chicago:20210625T170000
DTEND;TZID=America/Chicago:20210625T190000
DTSTAMP:20260420T161819
CREATED:20210506T185131Z
LAST-MODIFIED:20210506T185131Z
UID:885-1624640400-1624647600@lpfairgrounds.com
SUMMARY:Queen Pageant
DESCRIPTION:Community Building
URL:https://lpfairgrounds.com/event/queen-pageant/
LOCATION:Community Building
CATEGORIES:Meetings
END:VEVENT
BEGIN:VEVENT
DTSTART;TZID=America/Chicago:20210624T183000
DTEND;TZID=America/Chicago:20210624T203000
DTSTAMP:20260420T161819
CREATED:20210506T185117Z
LAST-MODIFIED:20210506T185117Z
UID:884-1624559400-1624566600@lpfairgrounds.com
SUMMARY:Dog Club
DESCRIPTION:Swine Barn + Livestock Show Arena
URL:https://lpfairgrounds.com/event/dog-club-15/
LOCATION:Swine Barn
CATEGORIES:4-H
END:VEVENT
BEGIN:VEVENT
DTSTART;TZID=America/Chicago:20210623T180000
DTEND;TZID=America/Chicago:20210623T200000
DTSTAMP:20260420T161819
CREATED:20210506T185116Z
LAST-MODIFIED:20210506T185116Z
UID:882-1624471200-1624478400@lpfairgrounds.com
SUMMARY:Fair Board Meeting
DESCRIPTION:Small Projects A
URL:https://lpfairgrounds.com/event/fair-board-meeting-4/
LOCATION:Small Projects A
CATEGORIES:Private
END:VEVENT
BEGIN:VEVENT
DTSTART;TZID=America/Chicago:20210623T080000
DTEND;TZID=America/Chicago:20210623T120000
DTSTAMP:20260420T161819
CREATED:20210506T185116Z
LAST-MODIFIED:20210506T185116Z
UID:881-1624435200-1624449600@lpfairgrounds.com
SUMMARY:Private Meeting
DESCRIPTION:Small Projects A
URL:https://lpfairgrounds.com/event/private-meeting-9/
LOCATION:Small Projects A
CATEGORIES:Private
END:VEVENT
BEGIN:VEVENT
DTSTART;VALUE=DATE:20210623
DTEND;VALUE=DATE:20210624
DTSTAMP:20260420T161819
CREATED:20210506T185117Z
LAST-MODIFIED:20210506T185117Z
UID:883-1624406400-1624492799@lpfairgrounds.com
SUMMARY:Horse&Pony Clinic
DESCRIPTION:Horse & Pony Arena
URL:https://lpfairgrounds.com/event/horsepony-clinic-19/
CATEGORIES:4-H
END:VEVENT
BEGIN:VEVENT
DTSTART;TZID=America/Chicago:20210622T183000
DTEND;TZID=America/Chicago:20210622T203000
DTSTAMP:20260420T161819
CREATED:20210506T185040Z
LAST-MODIFIED:20210506T185040Z
UID:879-1624386600-1624393800@lpfairgrounds.com
SUMMARY:Horse&Pony Judging Team
DESCRIPTION:Small Project (A)
URL:https://lpfairgrounds.com/event/horsepony-judging-team-5/
LOCATION:Small Projects A
CATEGORIES:4-H
END:VEVENT
BEGIN:VEVENT
DTSTART;TZID=America/Chicago:20210622T183000
DTEND;TZID=America/Chicago:20210622T203000
DTSTAMP:20260420T161819
CREATED:20210506T185040Z
LAST-MODIFIED:20210506T185040Z
UID:877-1624386600-1624393800@lpfairgrounds.com
SUMMARY:Wagonmasters
DESCRIPTION:Draft Horse Barn
URL:https://lpfairgrounds.com/event/wagonmasters-4/
LOCATION:Draft Horse Barn
CATEGORIES:4-H
END:VEVENT
BEGIN:VEVENT
DTSTART;TZID=America/Chicago:20210622T183000
DTEND;TZID=America/Chicago:20210622T203000
DTSTAMP:20260420T161819
CREATED:20210506T185040Z
LAST-MODIFIED:20210506T185040Z
UID:878-1624386600-1624393800@lpfairgrounds.com
SUMMARY:Dog Club
DESCRIPTION:Swine Barn & Livestock Show Arena
URL:https://lpfairgrounds.com/event/dog-club-14/
CATEGORIES:4-H
END:VEVENT
BEGIN:VEVENT
DTSTART;VALUE=DATE:20210622
DTEND;VALUE=DATE:20210623
DTSTAMP:20260420T161819
CREATED:20210506T185116Z
LAST-MODIFIED:20210506T185116Z
UID:880-1624320000-1624406399@lpfairgrounds.com
SUMMARY:Horse&Pony Clinic
DESCRIPTION:Horse & Pony Arena
URL:https://lpfairgrounds.com/event/horsepony-clinic-18/
CATEGORIES:4-H
END:VEVENT
BEGIN:VEVENT
DTSTART;VALUE=DATE:20210621
DTEND;VALUE=DATE:20210622
DTSTAMP:20260420T161819
CREATED:20210506T185040Z
LAST-MODIFIED:20210506T185040Z
UID:876-1624233600-1624319999@lpfairgrounds.com
SUMMARY:Private Rental
DESCRIPTION:Community Building
URL:https://lpfairgrounds.com/event/private-rental/
LOCATION:Community Building
CATEGORIES:Private
END:VEVENT
BEGIN:VEVENT
DTSTART;VALUE=DATE:20210621
DTEND;VALUE=DATE:20210622
DTSTAMP:20260420T161819
CREATED:20210506T185039Z
LAST-MODIFIED:20210506T185039Z
UID:875-1624233600-1624319999@lpfairgrounds.com
SUMMARY:Horse&Pony Clinic
DESCRIPTION:Horse & Pony Arena
URL:https://lpfairgrounds.com/event/horsepony-clinic-17/
CATEGORIES:4-H
END:VEVENT
BEGIN:VEVENT
DTSTART;VALUE=DATE:20210620
DTEND;VALUE=DATE:20210621
DTSTAMP:20260420T161819
CREATED:20210506T184853Z
LAST-MODIFIED:20210506T184853Z
UID:874-1624147200-1624233599@lpfairgrounds.com
SUMMARY:Horse&Pony Clinic
DESCRIPTION:Horse & Pony Arena
URL:https://lpfairgrounds.com/event/horsepony-clinic-16/
CATEGORIES:4-H
END:VEVENT
BEGIN:VEVENT
DTSTART;TZID=America/Chicago:20210619T080000
DTEND;TZID=America/Chicago:20210619T100000
DTSTAMP:20260420T161819
CREATED:20210506T184853Z
LAST-MODIFIED:20210506T184853Z
UID:871-1624089600-1624096800@lpfairgrounds.com
SUMMARY:Archery Club
DESCRIPTION:
URL:https://lpfairgrounds.com/event/archery-club-4/
CATEGORIES:4-H
END:VEVENT
BEGIN:VEVENT
DTSTART;TZID=America/Chicago:20210619T080000
DTEND;TZID=America/Chicago:20210619T100000
DTSTAMP:20260420T161819
CREATED:20210506T184853Z
LAST-MODIFIED:20210506T184853Z
UID:872-1624089600-1624096800@lpfairgrounds.com
SUMMARY:Rabbit Committee
DESCRIPTION:Rabbit Barn
URL:https://lpfairgrounds.com/event/rabbit-committee-2/
LOCATION:Rabbit Barn
CATEGORIES:4-H
END:VEVENT
BEGIN:VEVENT
DTSTART;VALUE=DATE:20210619
DTEND;VALUE=DATE:20210620
DTSTAMP:20260420T161819
CREATED:20210506T184853Z
LAST-MODIFIED:20210506T184853Z
UID:873-1624060800-1624147199@lpfairgrounds.com
SUMMARY:Solid Waste: HHW Collection
DESCRIPTION:Behind Pioneerland
URL:https://lpfairgrounds.com/event/solid-waste-hhw-collection/
LOCATION:Pioneerland
CATEGORIES:Public
END:VEVENT
BEGIN:VEVENT
DTSTART;TZID=America/Chicago:20210618T180000
DTEND;TZID=America/Chicago:20210618T200000
DTSTAMP:20260420T161819
CREATED:20210506T184852Z
LAST-MODIFIED:20210506T184852Z
UID:870-1624039200-1624046400@lpfairgrounds.com
SUMMARY:Electric Workshop
DESCRIPTION:Small Projects A
URL:https://lpfairgrounds.com/event/electric-workshop-3/
LOCATION:Small Projects A
CATEGORIES:4-H
END:VEVENT
BEGIN:VEVENT
DTSTART;TZID=America/Chicago:20210617T183000
DTEND;TZID=America/Chicago:20210617T203000
DTSTAMP:20260420T161819
CREATED:20210506T184653Z
LAST-MODIFIED:20210506T184653Z
UID:869-1623954600-1623961800@lpfairgrounds.com
SUMMARY:Dog Club
DESCRIPTION:Swine Barn + Livestock Show Arena
URL:https://lpfairgrounds.com/event/dog-club-13/
LOCATION:Swine Barn
CATEGORIES:4-H
END:VEVENT
BEGIN:VEVENT
DTSTART;TZID=America/Chicago:20210616T183000
DTEND;TZID=America/Chicago:20210616T203000
DTSTAMP:20260420T161819
CREATED:20210506T184653Z
LAST-MODIFIED:20210506T184653Z
UID:867-1623868200-1623875400@lpfairgrounds.com
SUMMARY:Superintendents' Meeting
DESCRIPTION:Small Projects A
URL:https://lpfairgrounds.com/event/superintendents-meeting-4/
LOCATION:Small Projects A
CATEGORIES:Private
END:VEVENT
BEGIN:VEVENT
DTSTART;TZID=America/Chicago:20210616T080000
DTEND;TZID=America/Chicago:20210616T120000
DTSTAMP:20260420T161819
CREATED:20210506T184652Z
LAST-MODIFIED:20210506T184652Z
UID:866-1623830400-1623844800@lpfairgrounds.com
SUMMARY:Private Meeting
DESCRIPTION:Small Projects A
URL:https://lpfairgrounds.com/event/private-meeting-8/
LOCATION:Small Projects A
CATEGORIES:Private
END:VEVENT
BEGIN:VEVENT
DTSTART;VALUE=DATE:20210616
DTEND;VALUE=DATE:20210617
DTSTAMP:20260420T161819
CREATED:20210506T184653Z
LAST-MODIFIED:20210506T184653Z
UID:868-1623801600-1623887999@lpfairgrounds.com
SUMMARY:Horse&Pony Clinic
DESCRIPTION:Horse & Pony Arena
URL:https://lpfairgrounds.com/event/horsepony-clinic-15/
CATEGORIES:4-H
END:VEVENT
BEGIN:VEVENT
DTSTART;TZID=America/Chicago:20210615T190000
DTEND;TZID=America/Chicago:20210615T200000
DTSTAMP:20260420T161819
CREATED:20210506T184639Z
LAST-MODIFIED:20210506T184639Z
UID:863-1623783600-1623787200@lpfairgrounds.com
SUMMARY:Horse&Pony Club
DESCRIPTION:Horse & Pony Arena
URL:https://lpfairgrounds.com/event/horsepony-club/
CATEGORIES:4-H
END:VEVENT
BEGIN:VEVENT
DTSTART;TZID=America/Chicago:20210615T183000
DTEND;TZID=America/Chicago:20210615T203000
DTSTAMP:20260420T161819
CREATED:20210506T184639Z
LAST-MODIFIED:20210506T184639Z
UID:864-1623781800-1623789000@lpfairgrounds.com
SUMMARY:Dog Club
DESCRIPTION:Swine Barn + Livestock Show Arena
URL:https://lpfairgrounds.com/event/dog-club-12/
LOCATION:Swine Barn
CATEGORIES:4-H
END:VEVENT
BEGIN:VEVENT
DTSTART;TZID=America/Chicago:20210615T180000
DTEND;TZID=America/Chicago:20210615T190000
DTSTAMP:20260420T161819
CREATED:20210506T184652Z
LAST-MODIFIED:20210506T184652Z
UID:865-1623780000-1623783600@lpfairgrounds.com
SUMMARY:Horseless Horse
DESCRIPTION:Horse & Pony Arena
URL:https://lpfairgrounds.com/event/horseless-horse-2/
CATEGORIES:4-H
END:VEVENT
END:VCALENDAR