BEGIN:VCALENDAR
VERSION:2.0
PRODID:-//La Porte County Fairground Management and Event Center - ECPv6.13.2//NONSGML v1.0//EN
CALSCALE:GREGORIAN
METHOD:PUBLISH
X-WR-CALNAME:La Porte County Fairground Management and Event Center
X-ORIGINAL-URL:https://lpfairgrounds.com
X-WR-CALDESC:Events for La Porte County Fairground Management and Event Center
REFRESH-INTERVAL;VALUE=DURATION:PT1H
X-Robots-Tag:noindex
X-PUBLISHED-TTL:PT1H
BEGIN:VTIMEZONE
TZID:America/Chicago
BEGIN:DAYLIGHT
TZOFFSETFROM:-0600
TZOFFSETTO:-0500
TZNAME:CDT
DTSTART:20210314T080000
END:DAYLIGHT
BEGIN:STANDARD
TZOFFSETFROM:-0500
TZOFFSETTO:-0600
TZNAME:CST
DTSTART:20211107T070000
END:STANDARD
END:VTIMEZONE
BEGIN:VEVENT
DTSTART;TZID=America/Chicago:20210616T183000
DTEND;TZID=America/Chicago:20210616T203000
DTSTAMP:20260420T192046
CREATED:20210506T184653Z
LAST-MODIFIED:20210506T184653Z
UID:867-1623868200-1623875400@lpfairgrounds.com
SUMMARY:Superintendents' Meeting
DESCRIPTION:Small Projects A
URL:https://lpfairgrounds.com/event/superintendents-meeting-4/
LOCATION:Small Projects A
CATEGORIES:Private
END:VEVENT
BEGIN:VEVENT
DTSTART;TZID=America/Chicago:20210616T080000
DTEND;TZID=America/Chicago:20210616T120000
DTSTAMP:20260420T192046
CREATED:20210506T184652Z
LAST-MODIFIED:20210506T184652Z
UID:866-1623830400-1623844800@lpfairgrounds.com
SUMMARY:Private Meeting
DESCRIPTION:Small Projects A
URL:https://lpfairgrounds.com/event/private-meeting-8/
LOCATION:Small Projects A
CATEGORIES:Private
END:VEVENT
BEGIN:VEVENT
DTSTART;VALUE=DATE:20210616
DTEND;VALUE=DATE:20210617
DTSTAMP:20260420T192046
CREATED:20210506T184653Z
LAST-MODIFIED:20210506T184653Z
UID:868-1623801600-1623887999@lpfairgrounds.com
SUMMARY:Horse&Pony Clinic
DESCRIPTION:Horse & Pony Arena
URL:https://lpfairgrounds.com/event/horsepony-clinic-15/
CATEGORIES:4-H
END:VEVENT
BEGIN:VEVENT
DTSTART;TZID=America/Chicago:20210615T190000
DTEND;TZID=America/Chicago:20210615T200000
DTSTAMP:20260420T192046
CREATED:20210506T184639Z
LAST-MODIFIED:20210506T184639Z
UID:863-1623783600-1623787200@lpfairgrounds.com
SUMMARY:Horse&Pony Club
DESCRIPTION:Horse & Pony Arena
URL:https://lpfairgrounds.com/event/horsepony-club/
CATEGORIES:4-H
END:VEVENT
BEGIN:VEVENT
DTSTART;TZID=America/Chicago:20210615T183000
DTEND;TZID=America/Chicago:20210615T203000
DTSTAMP:20260420T192046
CREATED:20210506T184639Z
LAST-MODIFIED:20210506T184639Z
UID:864-1623781800-1623789000@lpfairgrounds.com
SUMMARY:Dog Club
DESCRIPTION:Swine Barn + Livestock Show Arena
URL:https://lpfairgrounds.com/event/dog-club-12/
LOCATION:Swine Barn
CATEGORIES:4-H
END:VEVENT
BEGIN:VEVENT
DTSTART;TZID=America/Chicago:20210615T180000
DTEND;TZID=America/Chicago:20210615T190000
DTSTAMP:20260420T192046
CREATED:20210506T184652Z
LAST-MODIFIED:20210506T184652Z
UID:865-1623780000-1623783600@lpfairgrounds.com
SUMMARY:Horseless Horse
DESCRIPTION:Horse & Pony Arena
URL:https://lpfairgrounds.com/event/horseless-horse-2/
CATEGORIES:4-H
END:VEVENT
BEGIN:VEVENT
DTSTART;VALUE=DATE:20210614
DTEND;VALUE=DATE:20210615
DTSTAMP:20260420T192046
CREATED:20210506T184639Z
LAST-MODIFIED:20210506T184639Z
UID:862-1623628800-1623715199@lpfairgrounds.com
SUMMARY:Horse & Pony Clinic
DESCRIPTION:Horse & Pony Arena
URL:https://lpfairgrounds.com/event/horse-pony-clinic-3/
CATEGORIES:4-H
END:VEVENT
BEGIN:VEVENT
DTSTART;TZID=America/Chicago:20210613T170000
DTEND;TZID=America/Chicago:20210613T190000
DTSTAMP:20260420T192046
CREATED:20210506T184639Z
LAST-MODIFIED:20210506T184639Z
UID:861-1623603600-1623610800@lpfairgrounds.com
SUMMARY:Mini Equine
DESCRIPTION:Livestock Show Arena
URL:https://lpfairgrounds.com/event/mini-equine-3/
LOCATION:Livestock Show Arena
CATEGORIES:4-H
END:VEVENT
BEGIN:VEVENT
DTSTART;TZID=America/Chicago:20210613T140000
DTEND;TZID=America/Chicago:20210613T160000
DTSTAMP:20260420T192046
CREATED:20210506T184540Z
LAST-MODIFIED:20210506T184540Z
UID:858-1623592800-1623600000@lpfairgrounds.com
SUMMARY:Queen Pageant Clinic
DESCRIPTION:Small Projects A
URL:https://lpfairgrounds.com/event/queen-pageant-clinic-4/
LOCATION:Small Projects A
CATEGORIES:Meetings
END:VEVENT
BEGIN:VEVENT
DTSTART;VALUE=DATE:20210613
DTEND;VALUE=DATE:20210614
DTSTAMP:20260420T192046
CREATED:20210506T184639Z
LAST-MODIFIED:20210506T184639Z
UID:860-1623542400-1623628799@lpfairgrounds.com
SUMMARY:Horse&Pony Super Clinic
DESCRIPTION:Horse & Pony Arena
URL:https://lpfairgrounds.com/event/horsepony-super-clinic-3/
CATEGORIES:4-H
END:VEVENT
BEGIN:VEVENT
DTSTART;VALUE=DATE:20210613
DTEND;VALUE=DATE:20210614
DTSTAMP:20260420T192046
CREATED:20210506T184540Z
LAST-MODIFIED:20210506T184540Z
UID:857-1623542400-1623628799@lpfairgrounds.com
SUMMARY:Scrapbooking Event for Westville Food Pantry
DESCRIPTION:Community Building
URL:https://lpfairgrounds.com/event/scrapbooking-event-for-westville-food-pantry/
LOCATION:Community Building
CATEGORIES:Private
END:VEVENT
BEGIN:VEVENT
DTSTART;VALUE=DATE:20210612
DTEND;VALUE=DATE:20210613
DTSTAMP:20260420T192046
CREATED:20210506T184540Z
LAST-MODIFIED:20210506T184540Z
UID:855-1623456000-1623542399@lpfairgrounds.com
SUMMARY:Horse&Pony Super Clinic
DESCRIPTION:Horse & Pony Arena
URL:https://lpfairgrounds.com/event/horsepony-super-clinic-2/
CATEGORIES:4-H
END:VEVENT
BEGIN:VEVENT
DTSTART;VALUE=DATE:20210612
DTEND;VALUE=DATE:20210613
DTSTAMP:20260420T192046
CREATED:20210506T184540Z
LAST-MODIFIED:20210506T184540Z
UID:856-1623456000-1623542399@lpfairgrounds.com
SUMMARY:Draft Horse Super Clinic
DESCRIPTION:Draft Horse Arena
URL:https://lpfairgrounds.com/event/draft-horse-super-clinic/
CATEGORIES:4-H
END:VEVENT
BEGIN:VEVENT
DTSTART;VALUE=DATE:20210611
DTEND;VALUE=DATE:20210612
DTSTAMP:20260420T192046
CREATED:20210928T174102Z
LAST-MODIFIED:20210928T174102Z
UID:1167-1623369600-1623455999@lpfairgrounds.com
SUMMARY:Private Event in Pioneerland
DESCRIPTION:
URL:https://lpfairgrounds.com/event/private-event-in-pioneerland/
LOCATION:Artisan Barn
END:VEVENT
BEGIN:VEVENT
DTSTART;VALUE=DATE:20210611
DTEND;VALUE=DATE:20210612
DTSTAMP:20260420T192046
CREATED:20210506T184539Z
LAST-MODIFIED:20210506T184539Z
UID:854-1623369600-1623455999@lpfairgrounds.com
SUMMARY:Horse&Pony Super Clinic
DESCRIPTION:Horse & Pony Arena
URL:https://lpfairgrounds.com/event/horsepony-super-clinic/
CATEGORIES:4-H
END:VEVENT
BEGIN:VEVENT
DTSTART;TZID=America/Chicago:20210610T183000
DTEND;TZID=America/Chicago:20210610T203000
DTSTAMP:20260420T192046
CREATED:20210506T184525Z
LAST-MODIFIED:20210506T184525Z
UID:852-1623349800-1623357000@lpfairgrounds.com
SUMMARY:Horse&Pony Committee
DESCRIPTION:Small Projects A
URL:https://lpfairgrounds.com/event/horsepony-committee-2/
LOCATION:Small Projects A
CATEGORIES:4-H
END:VEVENT
BEGIN:VEVENT
DTSTART;TZID=America/Chicago:20210610T180000
DTEND;TZID=America/Chicago:20210610T200000
DTSTAMP:20260420T192046
CREATED:20210506T184526Z
LAST-MODIFIED:20210506T184526Z
UID:853-1623348000-1623355200@lpfairgrounds.com
SUMMARY:Poultry Clinic
DESCRIPTION:Small Projects (B)
URL:https://lpfairgrounds.com/event/poultry-clinic-2/
LOCATION:Small Projects B
CATEGORIES:4-H
END:VEVENT
BEGIN:VEVENT
DTSTART;TZID=America/Chicago:20210609T080000
DTEND;TZID=America/Chicago:20210609T120000
DTSTAMP:20260420T192046
CREATED:20210506T184524Z
LAST-MODIFIED:20210506T184524Z
UID:850-1623225600-1623240000@lpfairgrounds.com
SUMMARY:Private Meeting
DESCRIPTION:Small Projects A
URL:https://lpfairgrounds.com/event/private-meeting-7/
LOCATION:Small Projects A
CATEGORIES:Private
END:VEVENT
BEGIN:VEVENT
DTSTART;VALUE=DATE:20210609
DTEND;VALUE=DATE:20210610
DTSTAMP:20260420T192046
CREATED:20210506T184525Z
LAST-MODIFIED:20210506T184525Z
UID:851-1623196800-1623283199@lpfairgrounds.com
SUMMARY:Horse & Pony Clinic
DESCRIPTION:Horse & Pony Arena
URL:https://lpfairgrounds.com/event/horse-pony-clinic-2/
CATEGORIES:4-H
END:VEVENT
BEGIN:VEVENT
DTSTART;VALUE=DATE:20210609
DTEND;VALUE=DATE:20210610
DTSTAMP:20260420T192046
CREATED:20210506T184524Z
LAST-MODIFIED:20210506T184524Z
UID:849-1623196800-1623283199@lpfairgrounds.com
SUMMARY:Indiana Holstein Association
DESCRIPTION:Community Building\, Draft Horse Arena – Livestock Show Arena
URL:https://lpfairgrounds.com/event/indiana-holstein-association-2/
LOCATION:Across Grounds
CATEGORIES:4-H
END:VEVENT
BEGIN:VEVENT
DTSTART;TZID=America/Chicago:20210608T183000
DTEND;TZID=America/Chicago:20210608T203000
DTSTAMP:20260420T192046
CREATED:20210506T184512Z
LAST-MODIFIED:20210506T184512Z
UID:846-1623177000-1623184200@lpfairgrounds.com
SUMMARY:Wagonmasters
DESCRIPTION:Draft Horse Barn
URL:https://lpfairgrounds.com/event/wagonmasters-3/
LOCATION:Draft Horse Barn
CATEGORIES:4-H
END:VEVENT
BEGIN:VEVENT
DTSTART;TZID=America/Chicago:20210608T183000
DTEND;TZID=America/Chicago:20210608T203000
DTSTAMP:20260420T192046
CREATED:20210506T184511Z
LAST-MODIFIED:20210506T184511Z
UID:845-1623177000-1623184200@lpfairgrounds.com
SUMMARY:Dog Club
DESCRIPTION:Small Projects A
URL:https://lpfairgrounds.com/event/dog-club-11/
LOCATION:Small Projects A
CATEGORIES:4-H
END:VEVENT
BEGIN:VEVENT
DTSTART;TZID=America/Chicago:20210608T083000
DTEND;TZID=America/Chicago:20210608T103000
DTSTAMP:20260420T192046
CREATED:20210506T184510Z
LAST-MODIFIED:20210506T184510Z
UID:843-1623141000-1623148200@lpfairgrounds.com
SUMMARY:County Drainage Board Meeting
DESCRIPTION:Small Projects A
URL:https://lpfairgrounds.com/event/county-drainage-board-meeting-4/
LOCATION:Small Projects A
CATEGORIES:Public
END:VEVENT
BEGIN:VEVENT
DTSTART;VALUE=DATE:20210608
DTEND;VALUE=DATE:20210609
DTSTAMP:20260420T192046
CREATED:20210506T184514Z
LAST-MODIFIED:20210506T184514Z
UID:848-1623110400-1623196799@lpfairgrounds.com
SUMMARY:Indiana Holstein Association
DESCRIPTION:Various Locations on Grounds
URL:https://lpfairgrounds.com/event/indiana-holstein-association/
LOCATION:Across Grounds
CATEGORIES:4-H
END:VEVENT
BEGIN:VEVENT
DTSTART;VALUE=DATE:20210608
DTEND;VALUE=DATE:20210609
DTSTAMP:20260420T192046
CREATED:20210506T184513Z
LAST-MODIFIED:20210506T184513Z
UID:847-1623110400-1623196799@lpfairgrounds.com
SUMMARY:Horse&Pony Clinic
DESCRIPTION:Horse & Pony Arena
URL:https://lpfairgrounds.com/event/horsepony-clinic-14/
CATEGORIES:4-H
END:VEVENT
BEGIN:VEVENT
DTSTART;VALUE=DATE:20210607
DTEND;VALUE=DATE:20210608
DTSTAMP:20260420T192046
CREATED:20210506T184402Z
LAST-MODIFIED:20210506T184402Z
UID:842-1623024000-1623110399@lpfairgrounds.com
SUMMARY:Horse & Pony Clinic
DESCRIPTION:Horse & Pony Arena
URL:https://lpfairgrounds.com/event/horse-pony-clinic/
CATEGORIES:4-H
END:VEVENT
BEGIN:VEVENT
DTSTART;TZID=America/Chicago:20210606T140000
DTEND;TZID=America/Chicago:20210606T160000
DTSTAMP:20260420T192046
CREATED:20210506T184402Z
LAST-MODIFIED:20210506T184402Z
UID:840-1622988000-1622995200@lpfairgrounds.com
SUMMARY:Queen Pageant Clinic
DESCRIPTION:Small Projects A
URL:https://lpfairgrounds.com/event/queen-pageant-clinic-3/
LOCATION:Small Projects A
CATEGORIES:Meetings
END:VEVENT
BEGIN:VEVENT
DTSTART;VALUE=DATE:20210606
DTEND;VALUE=DATE:20210607
DTSTAMP:20260420T192046
CREATED:20210506T184402Z
LAST-MODIFIED:20210506T184402Z
UID:841-1622937600-1623023999@lpfairgrounds.com
SUMMARY:Horse&Pony Clinic
DESCRIPTION:Horse & Pony Arena
URL:https://lpfairgrounds.com/event/horsepony-clinic-13/
CATEGORIES:4-H
END:VEVENT
BEGIN:VEVENT
DTSTART;TZID=America/Chicago:20210605T120000
DTEND;TZID=America/Chicago:20210605T200000
DTSTAMP:20260420T192046
CREATED:20210506T184401Z
LAST-MODIFIED:20210506T184401Z
UID:838-1622894400-1622923200@lpfairgrounds.com
SUMMARY:Private Event
DESCRIPTION:Artisan Barn
URL:https://lpfairgrounds.com/event/private-event-2/
LOCATION:Artisan Barn
CATEGORIES:Private
END:VEVENT
BEGIN:VEVENT
DTSTART;TZID=America/Chicago:20210605T080000
DTEND;TZID=America/Chicago:20210605T130000
DTSTAMP:20260420T192046
CREATED:20210506T184210Z
LAST-MODIFIED:20210506T184210Z
UID:837-1622880000-1622898000@lpfairgrounds.com
SUMMARY:Archery Club
DESCRIPTION:
URL:https://lpfairgrounds.com/event/archery-club-3/
CATEGORIES:4-H
END:VEVENT
END:VCALENDAR