BEGIN:VCALENDAR
VERSION:2.0
PRODID:-//La Porte County Fairground Management and Event Center - ECPv6.13.2//NONSGML v1.0//EN
CALSCALE:GREGORIAN
METHOD:PUBLISH
X-WR-CALNAME:La Porte County Fairground Management and Event Center
X-ORIGINAL-URL:https://lpfairgrounds.com
X-WR-CALDESC:Events for La Porte County Fairground Management and Event Center
REFRESH-INTERVAL;VALUE=DURATION:PT1H
X-Robots-Tag:noindex
X-PUBLISHED-TTL:PT1H
BEGIN:VTIMEZONE
TZID:America/Chicago
BEGIN:DAYLIGHT
TZOFFSETFROM:-0600
TZOFFSETTO:-0500
TZNAME:CDT
DTSTART:20210314T080000
END:DAYLIGHT
BEGIN:STANDARD
TZOFFSETFROM:-0500
TZOFFSETTO:-0600
TZNAME:CST
DTSTART:20211107T070000
END:STANDARD
END:VTIMEZONE
BEGIN:VEVENT
DTSTART;VALUE=DATE:20210608
DTEND;VALUE=DATE:20210609
DTSTAMP:20260420T223132
CREATED:20210506T184513Z
LAST-MODIFIED:20210506T184513Z
UID:847-1623110400-1623196799@lpfairgrounds.com
SUMMARY:Horse&Pony Clinic
DESCRIPTION:Horse & Pony Arena
URL:https://lpfairgrounds.com/event/horsepony-clinic-14/
CATEGORIES:4-H
END:VEVENT
BEGIN:VEVENT
DTSTART;VALUE=DATE:20210607
DTEND;VALUE=DATE:20210608
DTSTAMP:20260420T223132
CREATED:20210506T184402Z
LAST-MODIFIED:20210506T184402Z
UID:842-1623024000-1623110399@lpfairgrounds.com
SUMMARY:Horse & Pony Clinic
DESCRIPTION:Horse & Pony Arena
URL:https://lpfairgrounds.com/event/horse-pony-clinic/
CATEGORIES:4-H
END:VEVENT
BEGIN:VEVENT
DTSTART;TZID=America/Chicago:20210606T140000
DTEND;TZID=America/Chicago:20210606T160000
DTSTAMP:20260420T223132
CREATED:20210506T184402Z
LAST-MODIFIED:20210506T184402Z
UID:840-1622988000-1622995200@lpfairgrounds.com
SUMMARY:Queen Pageant Clinic
DESCRIPTION:Small Projects A
URL:https://lpfairgrounds.com/event/queen-pageant-clinic-3/
LOCATION:Small Projects A
CATEGORIES:Meetings
END:VEVENT
BEGIN:VEVENT
DTSTART;VALUE=DATE:20210606
DTEND;VALUE=DATE:20210607
DTSTAMP:20260420T223132
CREATED:20210506T184402Z
LAST-MODIFIED:20210506T184402Z
UID:841-1622937600-1623023999@lpfairgrounds.com
SUMMARY:Horse&Pony Clinic
DESCRIPTION:Horse & Pony Arena
URL:https://lpfairgrounds.com/event/horsepony-clinic-13/
CATEGORIES:4-H
END:VEVENT
BEGIN:VEVENT
DTSTART;TZID=America/Chicago:20210605T120000
DTEND;TZID=America/Chicago:20210605T200000
DTSTAMP:20260420T223132
CREATED:20210506T184401Z
LAST-MODIFIED:20210506T184401Z
UID:838-1622894400-1622923200@lpfairgrounds.com
SUMMARY:Private Event
DESCRIPTION:Artisan Barn
URL:https://lpfairgrounds.com/event/private-event-2/
LOCATION:Artisan Barn
CATEGORIES:Private
END:VEVENT
BEGIN:VEVENT
DTSTART;TZID=America/Chicago:20210605T080000
DTEND;TZID=America/Chicago:20210605T130000
DTSTAMP:20260420T223132
CREATED:20210506T184210Z
LAST-MODIFIED:20210506T184210Z
UID:837-1622880000-1622898000@lpfairgrounds.com
SUMMARY:Archery Club
DESCRIPTION:
URL:https://lpfairgrounds.com/event/archery-club-3/
CATEGORIES:4-H
END:VEVENT
BEGIN:VEVENT
DTSTART;VALUE=DATE:20210605
DTEND;VALUE=DATE:20210606
DTSTAMP:20260420T223132
CREATED:20210506T184402Z
LAST-MODIFIED:20210506T184402Z
UID:839-1622851200-1622937599@lpfairgrounds.com
SUMMARY:Private Event
DESCRIPTION:Community Building
URL:https://lpfairgrounds.com/event/private-event-3/
LOCATION:Community Building
CATEGORIES:Private
END:VEVENT
BEGIN:VEVENT
DTSTART;TZID=America/Chicago:20210604T180000
DTEND;TZID=America/Chicago:20210604T200000
DTSTAMP:20260420T223132
CREATED:20210506T184210Z
LAST-MODIFIED:20210506T184210Z
UID:836-1622829600-1622836800@lpfairgrounds.com
SUMMARY:Electric Workshop
DESCRIPTION:Small Projects A
URL:https://lpfairgrounds.com/event/electric-workshop-2/
LOCATION:Small Projects A
CATEGORIES:4-H
END:VEVENT
BEGIN:VEVENT
DTSTART;TZID=America/Chicago:20210603T183000
DTEND;TZID=America/Chicago:20210603T203000
DTSTAMP:20260420T223132
CREATED:20210506T184209Z
LAST-MODIFIED:20210506T184209Z
UID:835-1622745000-1622752200@lpfairgrounds.com
SUMMARY:Dog Club
DESCRIPTION:Swine Barn + Livestock Show Arena
URL:https://lpfairgrounds.com/event/dog-club-10/
LOCATION:Swine Barn
CATEGORIES:4-H
END:VEVENT
BEGIN:VEVENT
DTSTART;TZID=America/Chicago:20210602T080000
DTEND;TZID=America/Chicago:20210602T120000
DTSTAMP:20260420T223132
CREATED:20210506T184209Z
LAST-MODIFIED:20210506T184209Z
UID:833-1622620800-1622635200@lpfairgrounds.com
SUMMARY:PRIVATE MEETING
DESCRIPTION:Small Projects A
URL:https://lpfairgrounds.com/event/private-meeting-6/
LOCATION:Small Projects A
CATEGORIES:Private
END:VEVENT
BEGIN:VEVENT
DTSTART;VALUE=DATE:20210602
DTEND;VALUE=DATE:20210603
DTSTAMP:20260420T223132
CREATED:20210506T184209Z
LAST-MODIFIED:20210506T184209Z
UID:834-1622592000-1622678399@lpfairgrounds.com
SUMMARY:Horse&Pony Clinic
DESCRIPTION:Horse & Pony Arena
URL:https://lpfairgrounds.com/event/horsepony-clinic-12/
CATEGORIES:4-H
END:VEVENT
BEGIN:VEVENT
DTSTART;TZID=America/Chicago:20210601T183000
DTEND;TZID=America/Chicago:20210601T203000
DTSTAMP:20260420T223132
CREATED:20210506T184048Z
LAST-MODIFIED:20210506T184048Z
UID:829-1622572200-1622579400@lpfairgrounds.com
SUMMARY:Dog Club
DESCRIPTION:Swine Barn + Livestock Show Arena
URL:https://lpfairgrounds.com/event/dog-club-9/
LOCATION:Swine Barn
CATEGORIES:4-H
END:VEVENT
BEGIN:VEVENT
DTSTART;TZID=America/Chicago:20210601T183000
DTEND;TZID=America/Chicago:20210601T203000
DTSTAMP:20260420T223132
CREATED:20210506T184047Z
LAST-MODIFIED:20210506T184047Z
UID:828-1622572200-1622579400@lpfairgrounds.com
SUMMARY:Horse&Pony Judging Team
DESCRIPTION:Small Projects A
URL:https://lpfairgrounds.com/event/horsepony-judging-team-4/
LOCATION:Small Projects A
CATEGORIES:4-H
END:VEVENT
BEGIN:VEVENT
DTSTART;VALUE=DATE:20210601
DTEND;VALUE=DATE:20210602
DTSTAMP:20260420T223132
CREATED:20210506T184048Z
LAST-MODIFIED:20210506T184048Z
UID:830-1622505600-1622591999@lpfairgrounds.com
SUMMARY:Horse&Pony Clinic
DESCRIPTION:Horse & Pony Arena
URL:https://lpfairgrounds.com/event/horsepony-clinic-11/
CATEGORIES:4-H
END:VEVENT
BEGIN:VEVENT
DTSTART;TZID=America/Chicago:20210527T183000
DTEND;TZID=America/Chicago:20210527T203000
DTSTAMP:20260420T223132
CREATED:20210506T184047Z
LAST-MODIFIED:20210506T184047Z
UID:827-1622140200-1622147400@lpfairgrounds.com
SUMMARY:Dog Club
DESCRIPTION:Swine Barn + Livestock Show Arena
URL:https://lpfairgrounds.com/event/dog-club-8/
LOCATION:Swine Barn
CATEGORIES:4-H
END:VEVENT
BEGIN:VEVENT
DTSTART;TZID=America/Chicago:20210526T180000
DTEND;TZID=America/Chicago:20210526T200000
DTSTAMP:20260420T223132
CREATED:20210506T183848Z
LAST-MODIFIED:20210506T183848Z
UID:825-1622052000-1622059200@lpfairgrounds.com
SUMMARY:Fair Board Meeting
DESCRIPTION:Small Projects A
URL:https://lpfairgrounds.com/event/fair-board-meeting-3/
LOCATION:Small Projects A
CATEGORIES:Meetings
END:VEVENT
BEGIN:VEVENT
DTSTART;VALUE=DATE:20210526
DTEND;VALUE=DATE:20210527
DTSTAMP:20260420T223132
CREATED:20210506T184047Z
LAST-MODIFIED:20210506T184047Z
UID:826-1621987200-1622073599@lpfairgrounds.com
SUMMARY:Horse&Pony Clinic
DESCRIPTION:Horse & Pony Arena
URL:https://lpfairgrounds.com/event/horsepony-clinic-10/
CATEGORIES:4-H
END:VEVENT
BEGIN:VEVENT
DTSTART;VALUE=DATE:20210526
DTEND;VALUE=DATE:20210527
DTSTAMP:20260420T223132
CREATED:20210506T183848Z
LAST-MODIFIED:20210506T183848Z
UID:824-1621987200-1622073599@lpfairgrounds.com
SUMMARY:Purdue Extension Lend-A-Hand Event
DESCRIPTION:Small Projects A
URL:https://lpfairgrounds.com/event/purdue-extension-lend-a-hand-event/
LOCATION:Small Projects A
CATEGORIES:4-H
END:VEVENT
BEGIN:VEVENT
DTSTART;TZID=America/Chicago:20210525T183000
DTEND;TZID=America/Chicago:20210525T203000
DTSTAMP:20260420T223132
CREATED:20210506T183847Z
LAST-MODIFIED:20210506T183847Z
UID:822-1621967400-1621974600@lpfairgrounds.com
SUMMARY:Wagonmasters
DESCRIPTION:Draft Horse Barn
URL:https://lpfairgrounds.com/event/wagonmasters-2/
LOCATION:Draft Horse Barn
CATEGORIES:4-H
END:VEVENT
BEGIN:VEVENT
DTSTART;TZID=America/Chicago:20210525T183000
DTEND;TZID=America/Chicago:20210525T203000
DTSTAMP:20260420T223132
CREATED:20210506T183846Z
LAST-MODIFIED:20210506T183846Z
UID:821-1621967400-1621974600@lpfairgrounds.com
SUMMARY:Dog Club
DESCRIPTION:Swine Barn + Livestock Show Arena
URL:https://lpfairgrounds.com/event/dog-club-7/
LOCATION:Swine Barn
CATEGORIES:4-H
END:VEVENT
BEGIN:VEVENT
DTSTART;VALUE=DATE:20210525
DTEND;VALUE=DATE:20210526
DTSTAMP:20260420T223132
CREATED:20210506T183847Z
LAST-MODIFIED:20210506T183847Z
UID:823-1621900800-1621987199@lpfairgrounds.com
SUMMARY:Horse&Pony Clinic
DESCRIPTION:Horse & Pony Arena
URL:https://lpfairgrounds.com/event/horsepony-clinic-9/
CATEGORIES:4-H
END:VEVENT
BEGIN:VEVENT
DTSTART;VALUE=DATE:20210524
DTEND;VALUE=DATE:20210525
DTSTAMP:20260420T223132
CREATED:20210506T183813Z
LAST-MODIFIED:20210506T183813Z
UID:820-1621814400-1621900799@lpfairgrounds.com
SUMMARY:Private Meeting
DESCRIPTION:Small Projects A
URL:https://lpfairgrounds.com/event/private-meeting-5/
LOCATION:Small Projects A
CATEGORIES:Private
END:VEVENT
BEGIN:VEVENT
DTSTART;VALUE=DATE:20210524
DTEND;VALUE=DATE:20210525
DTSTAMP:20260420T223132
CREATED:20210506T183812Z
LAST-MODIFIED:20210506T183812Z
UID:819-1621814400-1621900799@lpfairgrounds.com
SUMMARY:Horse&Pony Clinic
DESCRIPTION:Horse & Pony Arena
URL:https://lpfairgrounds.com/event/horsepony-clinic-8/
CATEGORIES:4-H
END:VEVENT
BEGIN:VEVENT
DTSTART;TZID=America/Chicago:20210523T160000
DTEND;TZID=America/Chicago:20210523T190000
DTSTAMP:20260420T223132
CREATED:20210506T183812Z
LAST-MODIFIED:20210506T183812Z
UID:818-1621785600-1621796400@lpfairgrounds.com
SUMMARY:Queen Pageant Clinic
DESCRIPTION:Small Projects A
URL:https://lpfairgrounds.com/event/queen-pageant-clinic-2/
LOCATION:Small Projects A
CATEGORIES:Meetings
END:VEVENT
BEGIN:VEVENT
DTSTART;VALUE=DATE:20210523
DTEND;VALUE=DATE:20210524
DTSTAMP:20260420T223132
CREATED:20210506T183812Z
LAST-MODIFIED:20210506T183812Z
UID:817-1621728000-1621814399@lpfairgrounds.com
SUMMARY:Rebel Pavilion Horse Show
DESCRIPTION:Horse & Pony Arena
URL:https://lpfairgrounds.com/event/rebel-pavilion-horse-show/
CATEGORIES:Public
END:VEVENT
BEGIN:VEVENT
DTSTART;TZID=America/Chicago:20210522T120000
DTEND;TZID=America/Chicago:20210522T200000
DTSTAMP:20260420T223132
CREATED:20210506T183757Z
LAST-MODIFIED:20210506T183757Z
UID:814-1621684800-1621713600@lpfairgrounds.com
SUMMARY:Private Event
DESCRIPTION:Artisan Barn
URL:https://lpfairgrounds.com/event/private-event/
LOCATION:Artisan Barn
CATEGORIES:Private
END:VEVENT
BEGIN:VEVENT
DTSTART;TZID=America/Chicago:20210522T110000
DTEND;TZID=America/Chicago:20210522T150000
DTSTAMP:20260420T223132
CREATED:20210506T183757Z
LAST-MODIFIED:20210506T183757Z
UID:812-1621681200-1621695600@lpfairgrounds.com
SUMMARY:ABATE of Indiana Region 2 Spring Breakout
DESCRIPTION:Commercial #2\, Swine Barn\, East Gate
URL:https://lpfairgrounds.com/event/abate-of-indiana-region-2-spring-breakout/
LOCATION:Commercial Building 2
CATEGORIES:Public
END:VEVENT
BEGIN:VEVENT
DTSTART;TZID=America/Chicago:20210522T090000
DTEND;TZID=America/Chicago:20210522T120000
DTSTAMP:20260420T223132
CREATED:20210506T183812Z
LAST-MODIFIED:20210506T183812Z
UID:816-1621674000-1621684800@lpfairgrounds.com
SUMMARY:Goats Clinic
DESCRIPTION:Livestock Show Arena
URL:https://lpfairgrounds.com/event/goats-clinic/
LOCATION:Livestock Show Arena
CATEGORIES:4-H
END:VEVENT
BEGIN:VEVENT
DTSTART;TZID=America/Chicago:20210522T080000
DTEND;TZID=America/Chicago:20210522T130000
DTSTAMP:20260420T223132
CREATED:20210506T183758Z
LAST-MODIFIED:20210506T183758Z
UID:815-1621670400-1621688400@lpfairgrounds.com
SUMMARY:Archery Club
DESCRIPTION:
URL:https://lpfairgrounds.com/event/archery-club-2/
CATEGORIES:4-H
END:VEVENT
BEGIN:VEVENT
DTSTART;VALUE=DATE:20210522
DTEND;VALUE=DATE:20210523
DTSTAMP:20260420T223132
CREATED:20210928T174101Z
LAST-MODIFIED:20210928T174101Z
UID:1166-1621641600-1621727999@lpfairgrounds.com
SUMMARY:Rebel Horse Show
DESCRIPTION:
URL:https://lpfairgrounds.com/event/rebel-horse-show/
END:VEVENT
END:VCALENDAR