BEGIN:VCALENDAR
VERSION:2.0
PRODID:-//La Porte County Fairground Management and Event Center - ECPv6.13.2//NONSGML v1.0//EN
CALSCALE:GREGORIAN
METHOD:PUBLISH
X-WR-CALNAME:La Porte County Fairground Management and Event Center
X-ORIGINAL-URL:https://lpfairgrounds.com
X-WR-CALDESC:Events for La Porte County Fairground Management and Event Center
REFRESH-INTERVAL;VALUE=DURATION:PT1H
X-Robots-Tag:noindex
X-PUBLISHED-TTL:PT1H
BEGIN:VTIMEZONE
TZID:America/Chicago
BEGIN:DAYLIGHT
TZOFFSETFROM:-0600
TZOFFSETTO:-0500
TZNAME:CDT
DTSTART:20210314T080000
END:DAYLIGHT
BEGIN:STANDARD
TZOFFSETFROM:-0500
TZOFFSETTO:-0600
TZNAME:CST
DTSTART:20211107T070000
END:STANDARD
END:VTIMEZONE
BEGIN:VEVENT
DTSTART;VALUE=DATE:20210523
DTEND;VALUE=DATE:20210524
DTSTAMP:20260421T013818
CREATED:20210506T183812Z
LAST-MODIFIED:20210506T183812Z
UID:817-1621728000-1621814399@lpfairgrounds.com
SUMMARY:Rebel Pavilion Horse Show
DESCRIPTION:Horse & Pony Arena
URL:https://lpfairgrounds.com/event/rebel-pavilion-horse-show/
CATEGORIES:Public
END:VEVENT
BEGIN:VEVENT
DTSTART;TZID=America/Chicago:20210522T120000
DTEND;TZID=America/Chicago:20210522T200000
DTSTAMP:20260421T013818
CREATED:20210506T183757Z
LAST-MODIFIED:20210506T183757Z
UID:814-1621684800-1621713600@lpfairgrounds.com
SUMMARY:Private Event
DESCRIPTION:Artisan Barn
URL:https://lpfairgrounds.com/event/private-event/
LOCATION:Artisan Barn
CATEGORIES:Private
END:VEVENT
BEGIN:VEVENT
DTSTART;TZID=America/Chicago:20210522T110000
DTEND;TZID=America/Chicago:20210522T150000
DTSTAMP:20260421T013818
CREATED:20210506T183757Z
LAST-MODIFIED:20210506T183757Z
UID:812-1621681200-1621695600@lpfairgrounds.com
SUMMARY:ABATE of Indiana Region 2 Spring Breakout
DESCRIPTION:Commercial #2\, Swine Barn\, East Gate
URL:https://lpfairgrounds.com/event/abate-of-indiana-region-2-spring-breakout/
LOCATION:Commercial Building 2
CATEGORIES:Public
END:VEVENT
BEGIN:VEVENT
DTSTART;TZID=America/Chicago:20210522T090000
DTEND;TZID=America/Chicago:20210522T120000
DTSTAMP:20260421T013818
CREATED:20210506T183812Z
LAST-MODIFIED:20210506T183812Z
UID:816-1621674000-1621684800@lpfairgrounds.com
SUMMARY:Goats Clinic
DESCRIPTION:Livestock Show Arena
URL:https://lpfairgrounds.com/event/goats-clinic/
LOCATION:Livestock Show Arena
CATEGORIES:4-H
END:VEVENT
BEGIN:VEVENT
DTSTART;TZID=America/Chicago:20210522T080000
DTEND;TZID=America/Chicago:20210522T130000
DTSTAMP:20260421T013818
CREATED:20210506T183758Z
LAST-MODIFIED:20210506T183758Z
UID:815-1621670400-1621688400@lpfairgrounds.com
SUMMARY:Archery Club
DESCRIPTION:
URL:https://lpfairgrounds.com/event/archery-club-2/
CATEGORIES:4-H
END:VEVENT
BEGIN:VEVENT
DTSTART;VALUE=DATE:20210522
DTEND;VALUE=DATE:20210523
DTSTAMP:20260421T013818
CREATED:20210928T174101Z
LAST-MODIFIED:20210928T174101Z
UID:1166-1621641600-1621727999@lpfairgrounds.com
SUMMARY:Rebel Horse Show
DESCRIPTION:
URL:https://lpfairgrounds.com/event/rebel-horse-show/
END:VEVENT
BEGIN:VEVENT
DTSTART;VALUE=DATE:20210522
DTEND;VALUE=DATE:20210523
DTSTAMP:20260421T013818
CREATED:20210506T183757Z
LAST-MODIFIED:20210506T183757Z
UID:813-1621641600-1621727999@lpfairgrounds.com
SUMMARY:Horse&Pony Speed Show
DESCRIPTION:Horse & Pony Arena
URL:https://lpfairgrounds.com/event/horsepony-speed-show-2/
CATEGORIES:4-H
END:VEVENT
BEGIN:VEVENT
DTSTART;VALUE=DATE:20210521
DTEND;VALUE=DATE:20210522
DTSTAMP:20260421T013818
CREATED:20210928T174101Z
LAST-MODIFIED:20210928T174101Z
UID:1165-1621555200-1621641599@lpfairgrounds.com
SUMMARY:Solid Waste
DESCRIPTION:
URL:https://lpfairgrounds.com/event/solid-waste/
END:VEVENT
BEGIN:VEVENT
DTSTART;VALUE=DATE:20210521
DTEND;VALUE=DATE:20210522
DTSTAMP:20260421T013818
CREATED:20210506T183757Z
LAST-MODIFIED:20210506T183757Z
UID:811-1621555200-1621641599@lpfairgrounds.com
SUMMARY:Horse&Pony Speed Show
DESCRIPTION:Horse & Pony Arena
URL:https://lpfairgrounds.com/event/horsepony-speed-show/
CATEGORIES:4-H
END:VEVENT
BEGIN:VEVENT
DTSTART;TZID=America/Chicago:20210520T183000
DTEND;TZID=America/Chicago:20210520T203000
DTSTAMP:20260421T013818
CREATED:20210506T183742Z
LAST-MODIFIED:20210506T183742Z
UID:810-1621535400-1621542600@lpfairgrounds.com
SUMMARY:Dog Club
DESCRIPTION:Swine Barn + Livestock Show Arena
URL:https://lpfairgrounds.com/event/dog-club-6/
LOCATION:Swine Barn
CATEGORIES:4-H
END:VEVENT
BEGIN:VEVENT
DTSTART;TZID=America/Chicago:20210520T170000
DTEND;TZID=America/Chicago:20210520T190000
DTSTAMP:20260421T013818
CREATED:20210506T183742Z
LAST-MODIFIED:20210506T183742Z
UID:809-1621530000-1621537200@lpfairgrounds.com
SUMMARY:Archery Club
DESCRIPTION:
URL:https://lpfairgrounds.com/event/archery-club/
CATEGORIES:4-H
END:VEVENT
BEGIN:VEVENT
DTSTART;TZID=America/Chicago:20210519T180000
DTEND;TZID=America/Chicago:20210519T200000
DTSTAMP:20260421T013818
CREATED:20210506T183742Z
LAST-MODIFIED:20210506T183742Z
UID:807-1621447200-1621454400@lpfairgrounds.com
SUMMARY:Superintendents' Meeting
DESCRIPTION:Small Projects A
URL:https://lpfairgrounds.com/event/superintendents-meeting-3/
LOCATION:Small Projects A
CATEGORIES:Private
END:VEVENT
BEGIN:VEVENT
DTSTART;TZID=America/Chicago:20210519T080000
DTEND;TZID=America/Chicago:20210519T120000
DTSTAMP:20260421T013818
CREATED:20210506T183742Z
LAST-MODIFIED:20210506T183742Z
UID:806-1621411200-1621425600@lpfairgrounds.com
SUMMARY:Private Meeting
DESCRIPTION:Small Projects A
URL:https://lpfairgrounds.com/event/private-meeting-4/
LOCATION:Small Projects A
CATEGORIES:Private
END:VEVENT
BEGIN:VEVENT
DTSTART;VALUE=DATE:20210519
DTEND;VALUE=DATE:20210520
DTSTAMP:20260421T013818
CREATED:20210506T183742Z
LAST-MODIFIED:20210506T183742Z
UID:808-1621382400-1621468799@lpfairgrounds.com
SUMMARY:Horse&Pony Clinic
DESCRIPTION:Horse & Pony Arena
URL:https://lpfairgrounds.com/event/horsepony-clinic-7/
CATEGORIES:4-H
END:VEVENT
BEGIN:VEVENT
DTSTART;TZID=America/Chicago:20210518T190000
DTEND;TZID=America/Chicago:20210518T200000
DTSTAMP:20260421T013818
CREATED:20210506T183728Z
LAST-MODIFIED:20210506T183728Z
UID:803-1621364400-1621368000@lpfairgrounds.com
SUMMARY:Horse&Pony Judging Team
DESCRIPTION:Horse & Pony Arena
URL:https://lpfairgrounds.com/event/horsepony-judging-team-3/
CATEGORIES:4-H
END:VEVENT
BEGIN:VEVENT
DTSTART;TZID=America/Chicago:20210518T183000
DTEND;TZID=America/Chicago:20210518T203000
DTSTAMP:20260421T013818
CREATED:20210506T183729Z
LAST-MODIFIED:20210506T183729Z
UID:804-1621362600-1621369800@lpfairgrounds.com
SUMMARY:Dog Club
DESCRIPTION:Swine Barn + Livestock Show Arena
URL:https://lpfairgrounds.com/event/dog-club-5/
LOCATION:Swine Barn
CATEGORIES:4-H
END:VEVENT
BEGIN:VEVENT
DTSTART;TZID=America/Chicago:20210518T180000
DTEND;TZID=America/Chicago:20210518T190000
DTSTAMP:20260421T013818
CREATED:20210506T183729Z
LAST-MODIFIED:20210506T183729Z
UID:805-1621360800-1621364400@lpfairgrounds.com
SUMMARY:Horseless Horse
DESCRIPTION:Horse & Pony Arena
URL:https://lpfairgrounds.com/event/horseless-horse/
CATEGORIES:4-H
END:VEVENT
BEGIN:VEVENT
DTSTART;TZID=America/Chicago:20210517T190000
DTEND;TZID=America/Chicago:20210517T210000
DTSTAMP:20260421T013818
CREATED:20210506T183728Z
LAST-MODIFIED:20210506T183728Z
UID:802-1621278000-1621285200@lpfairgrounds.com
SUMMARY:Private Meeting
DESCRIPTION:Small Projects A
URL:https://lpfairgrounds.com/event/private-meeting-3/
LOCATION:Small Projects A
CATEGORIES:Private
END:VEVENT
BEGIN:VEVENT
DTSTART;VALUE=DATE:20210517
DTEND;VALUE=DATE:20210518
DTSTAMP:20260421T013818
CREATED:20210506T183727Z
LAST-MODIFIED:20210506T183727Z
UID:801-1621209600-1621295999@lpfairgrounds.com
SUMMARY:Horse&Pony Clinic
DESCRIPTION:Horse & Pony Arena
URL:https://lpfairgrounds.com/event/horsepony-clinic-6/
CATEGORIES:4-H
END:VEVENT
BEGIN:VEVENT
DTSTART;TZID=America/Chicago:20210516T170000
DTEND;TZID=America/Chicago:20210516T190000
DTSTAMP:20260421T013818
CREATED:20210506T183714Z
LAST-MODIFIED:20210506T183714Z
UID:799-1621184400-1621191600@lpfairgrounds.com
SUMMARY:Mini Equine
DESCRIPTION:Livestock Show Arena
URL:https://lpfairgrounds.com/event/mini-equine-2/
LOCATION:Livestock Show Arena
CATEGORIES:4-H
END:VEVENT
BEGIN:VEVENT
DTSTART;TZID=America/Chicago:20210516T070000
DTEND;TZID=America/Chicago:20210516T153000
DTSTAMP:20260421T013818
CREATED:20210506T183714Z
LAST-MODIFIED:20210506T183714Z
UID:800-1621148400-1621179000@lpfairgrounds.com
SUMMARY:Orchard County Bicycle Tour
DESCRIPTION:Register outside of Conservation Building
URL:https://lpfairgrounds.com/event/orchard-county-bicycle-tour/
LOCATION:Conservation Building
CATEGORIES:Public
END:VEVENT
BEGIN:VEVENT
DTSTART;VALUE=DATE:20210516
DTEND;VALUE=DATE:20210517
DTSTAMP:20260421T013818
CREATED:20210506T183714Z
LAST-MODIFIED:20210506T183714Z
UID:798-1621123200-1621209599@lpfairgrounds.com
SUMMARY:Horse&Pony Camp
DESCRIPTION:Horse & Pony Arena
URL:https://lpfairgrounds.com/event/horsepony-camp-2/
CATEGORIES:4-H
END:VEVENT
BEGIN:VEVENT
DTSTART;TZID=America/Chicago:20210515T070000
DTEND;TZID=America/Chicago:20210515T150000
DTSTAMP:20260421T013818
CREATED:20210506T183714Z
LAST-MODIFIED:20210506T183714Z
UID:797-1621062000-1621090800@lpfairgrounds.com
SUMMARY:LaPorte County Solid Waste 7-in-1 Recycling
DESCRIPTION:Main Parking Lot + Pioneerland
URL:https://lpfairgrounds.com/event/laporte-county-solid-waste-7-in-1-recycling/
LOCATION:Pioneerland
CATEGORIES:Public
END:VEVENT
BEGIN:VEVENT
DTSTART;VALUE=DATE:20210515
DTEND;VALUE=DATE:20210516
DTSTAMP:20260421T013818
CREATED:20210506T183713Z
LAST-MODIFIED:20210506T183713Z
UID:796-1621036800-1621123199@lpfairgrounds.com
SUMMARY:Horse&Pony Camp
DESCRIPTION:Horse & Pony Arena
URL:https://lpfairgrounds.com/event/horsepony-camp/
CATEGORIES:4-H
END:VEVENT
BEGIN:VEVENT
DTSTART;TZID=America/Chicago:20210514T180000
DTEND;TZID=America/Chicago:20210514T200000
DTSTAMP:20260421T013818
CREATED:20210506T183658Z
LAST-MODIFIED:20210506T183658Z
UID:795-1621015200-1621022400@lpfairgrounds.com
SUMMARY:Electric Workshop
DESCRIPTION:Small Projects A
URL:https://lpfairgrounds.com/event/electric-workshop/
LOCATION:Small Projects A
CATEGORIES:4-H
END:VEVENT
BEGIN:VEVENT
DTSTART;TZID=America/Chicago:20210513T183000
DTEND;TZID=America/Chicago:20210513T203000
DTSTAMP:20260421T013818
CREATED:20210506T183657Z
LAST-MODIFIED:20210506T183657Z
UID:794-1620930600-1620937800@lpfairgrounds.com
SUMMARY:Dog Club
DESCRIPTION:Swine Barn + Livestock Show Arena
URL:https://lpfairgrounds.com/event/dog-club-4/
LOCATION:Swine Barn
CATEGORIES:4-H
END:VEVENT
BEGIN:VEVENT
DTSTART;TZID=America/Chicago:20210513T183000
DTEND;TZID=America/Chicago:20210513T203000
DTSTAMP:20260421T013818
CREATED:20210506T183657Z
LAST-MODIFIED:20210506T183657Z
UID:793-1620930600-1620937800@lpfairgrounds.com
SUMMARY:Horse&Pony Committee
DESCRIPTION:Small Projects A
URL:https://lpfairgrounds.com/event/horsepony-committee/
LOCATION:Small Projects A
CATEGORIES:4-H
END:VEVENT
BEGIN:VEVENT
DTSTART;TZID=America/Chicago:20210512T183000
DTEND;TZID=America/Chicago:20210512T203000
DTSTAMP:20260421T013818
CREATED:20210506T183657Z
LAST-MODIFIED:20210506T183657Z
UID:792-1620844200-1620851400@lpfairgrounds.com
SUMMARY:Rabbit Committee
DESCRIPTION:Small Projects A
URL:https://lpfairgrounds.com/event/rabbit-committee/
LOCATION:Small Projects A
CATEGORIES:4-H
END:VEVENT
BEGIN:VEVENT
DTSTART;TZID=America/Chicago:20210512T080000
DTEND;TZID=America/Chicago:20210512T120000
DTSTAMP:20260421T013818
CREATED:20210506T183657Z
LAST-MODIFIED:20210506T183657Z
UID:791-1620806400-1620820800@lpfairgrounds.com
SUMMARY:Private Meeting
DESCRIPTION:Small Projects A
URL:https://lpfairgrounds.com/event/private-meeting-2/
LOCATION:Small Projects A
CATEGORIES:Private
END:VEVENT
BEGIN:VEVENT
DTSTART;TZID=America/Chicago:20210511T183000
DTEND;TZID=America/Chicago:20210511T203000
DTSTAMP:20260421T013818
CREATED:20210506T183642Z
LAST-MODIFIED:20210506T183642Z
UID:788-1620757800-1620765000@lpfairgrounds.com
SUMMARY:Horse&Pony Judging Team
DESCRIPTION:Small Projects A
URL:https://lpfairgrounds.com/event/horsepony-judging-team-2/
LOCATION:Small Projects A
CATEGORIES:4-H
END:VEVENT
END:VCALENDAR