BEGIN:VCALENDAR
VERSION:2.0
PRODID:-//La Porte County Fairground Management and Event Center - ECPv6.13.2//NONSGML v1.0//EN
CALSCALE:GREGORIAN
METHOD:PUBLISH
X-ORIGINAL-URL:https://lpfairgrounds.com
X-WR-CALDESC:Events for La Porte County Fairground Management and Event Center
REFRESH-INTERVAL;VALUE=DURATION:PT1H
X-Robots-Tag:noindex
X-PUBLISHED-TTL:PT1H
BEGIN:VTIMEZONE
TZID:America/Chicago
BEGIN:DAYLIGHT
TZOFFSETFROM:-0600
TZOFFSETTO:-0500
TZNAME:CDT
DTSTART:20210314T080000
END:DAYLIGHT
BEGIN:STANDARD
TZOFFSETFROM:-0500
TZOFFSETTO:-0600
TZNAME:CST
DTSTART:20211107T070000
END:STANDARD
END:VTIMEZONE
BEGIN:VEVENT
DTSTART;TZID=America/Chicago:20210322T183000
DTEND;TZID=America/Chicago:20210322T183000
DTSTAMP:20260423T065653
CREATED:20210308T221921Z
LAST-MODIFIED:20210308T221921Z
UID:400-1616437800-1616437800@lpfairgrounds.com
SUMMARY:4-H: Horse & Pony Judging Team
DESCRIPTION:
URL:https://lpfairgrounds.com/event/4-h-horse-pony-judging-team-8/
END:VEVENT
BEGIN:VEVENT
DTSTART;VALUE=DATE:20210319
DTEND;VALUE=DATE:20210320
DTSTAMP:20260423T065653
CREATED:20210928T174047Z
LAST-MODIFIED:20210928T174047Z
UID:1160-1616112000-1616198399@lpfairgrounds.com
SUMMARY:Michiana Bird Society
DESCRIPTION:
URL:https://lpfairgrounds.com/event/michiana-bird-society/
LOCATION:Community Building
END:VEVENT
BEGIN:VEVENT
DTSTART;TZID=America/Chicago:20210318T183000
DTEND;TZID=America/Chicago:20210318T183000
DTSTAMP:20260423T065653
CREATED:20210308T221921Z
LAST-MODIFIED:20210308T221921Z
UID:399-1616092200-1616092200@lpfairgrounds.com
SUMMARY:4-H: Wagonmasters
DESCRIPTION:
URL:https://lpfairgrounds.com/event/4-h-wagonmasters-2/
END:VEVENT
BEGIN:VEVENT
DTSTART;TZID=America/Chicago:20210318T083000
DTEND;TZID=America/Chicago:20210318T083000
DTSTAMP:20260423T065653
CREATED:20210308T221921Z
LAST-MODIFIED:20210308T221921Z
UID:398-1616056200-1616056200@lpfairgrounds.com
SUMMARY:Indiana Extension Homemakers’                                                                                                                                                                                                                                                                                                                           	                                                      	 District Meeting
DESCRIPTION:
URL:https://lpfairgrounds.com/event/indiana-extension-homemakers/
END:VEVENT
BEGIN:VEVENT
DTSTART;TZID=America/Chicago:20210317T180000
DTEND;TZID=America/Chicago:20210317T180000
DTSTAMP:20260423T065653
CREATED:20210308T221907Z
LAST-MODIFIED:20210308T221907Z
UID:397-1616004000-1616004000@lpfairgrounds.com
SUMMARY:Superintendents’ Meeting
DESCRIPTION:
URL:https://lpfairgrounds.com/event/superintendents-meeting-2/
END:VEVENT
BEGIN:VEVENT
DTSTART;TZID=America/Chicago:20210316T173000
DTEND;TZID=America/Chicago:20210316T173000
DTSTAMP:20260423T065653
CREATED:20210308T221906Z
LAST-MODIFIED:20210308T221906Z
UID:396-1615915800-1615915800@lpfairgrounds.com
SUMMARY:4-H: Dog Club
DESCRIPTION:
URL:https://lpfairgrounds.com/event/4-h-dog-club-7/
END:VEVENT
BEGIN:VEVENT
DTSTART;TZID=America/Chicago:20210315T183000
DTEND;TZID=America/Chicago:20210315T183000
DTSTAMP:20260423T065653
CREATED:20210308T221906Z
LAST-MODIFIED:20210308T221906Z
UID:395-1615833000-1615833000@lpfairgrounds.com
SUMMARY:4-H: Horse & Pony Judging Team
DESCRIPTION:
URL:https://lpfairgrounds.com/event/4-h-horse-pony-judging-team-7/
END:VEVENT
BEGIN:VEVENT
DTSTART;TZID=America/Chicago:20210313T080000
DTEND;TZID=America/Chicago:20210313T080000
DTSTAMP:20260423T065653
CREATED:20210308T221906Z
LAST-MODIFIED:20210308T221906Z
UID:394-1615622400-1615622400@lpfairgrounds.com
SUMMARY:4-H: Archery Club
DESCRIPTION:
URL:https://lpfairgrounds.com/event/4-h-archery-club-5/
END:VEVENT
BEGIN:VEVENT
DTSTART;TZID=America/Chicago:20210311T183000
DTEND;TZID=America/Chicago:20210311T183000
DTSTAMP:20260423T065653
CREATED:20210308T221906Z
LAST-MODIFIED:20210308T221906Z
UID:393-1615487400-1615487400@lpfairgrounds.com
SUMMARY:4-H: Dog Committee
DESCRIPTION:
URL:https://lpfairgrounds.com/event/4-h-dog-committee-2/
END:VEVENT
BEGIN:VEVENT
DTSTART;TZID=America/Chicago:20210310T183000
DTEND;TZID=America/Chicago:20210310T183000
DTSTAMP:20260423T065653
CREATED:20210308T221851Z
LAST-MODIFIED:20210308T221851Z
UID:392-1615401000-1615401000@lpfairgrounds.com
SUMMARY:4-H: Rabbit Committee
DESCRIPTION:
URL:https://lpfairgrounds.com/event/4-h-rabbit-committee/
END:VEVENT
BEGIN:VEVENT
DTSTART;TZID=America/Chicago:20210309T173000
DTEND;TZID=America/Chicago:20210309T173000
DTSTAMP:20260423T065653
CREATED:20210308T221851Z
LAST-MODIFIED:20210308T221851Z
UID:391-1615311000-1615311000@lpfairgrounds.com
SUMMARY:4-H: Dog Club
DESCRIPTION:
URL:https://lpfairgrounds.com/event/4-h-dog-club-6/
END:VEVENT
BEGIN:VEVENT
DTSTART;TZID=America/Chicago:20210309T083000
DTEND;TZID=America/Chicago:20210309T083000
DTSTAMP:20260423T065653
CREATED:20210308T221851Z
LAST-MODIFIED:20210308T221851Z
UID:390-1615278600-1615278600@lpfairgrounds.com
SUMMARY:County Drainage Board Meeting
DESCRIPTION:
URL:https://lpfairgrounds.com/event/county-drainage-board-meeting-2/
END:VEVENT
BEGIN:VEVENT
DTSTART;TZID=America/Chicago:20210308T183000
DTEND;TZID=America/Chicago:20210308T183000
DTSTAMP:20260423T065653
CREATED:20210308T221851Z
LAST-MODIFIED:20210308T221851Z
UID:389-1615228200-1615228200@lpfairgrounds.com
SUMMARY:4-H: Horse & Pony Judging Team
DESCRIPTION:
URL:https://lpfairgrounds.com/event/4-h-horse-pony-judging-team-6/
END:VEVENT
BEGIN:VEVENT
DTSTART;TZID=America/Chicago:20210302T173000
DTEND;TZID=America/Chicago:20210302T173000
DTSTAMP:20260423T065653
CREATED:20210308T221851Z
LAST-MODIFIED:20210308T221851Z
UID:388-1614706200-1614706200@lpfairgrounds.com
SUMMARY:4-H: Dog Club
DESCRIPTION:
URL:https://lpfairgrounds.com/event/4-h-dog-club-5/
END:VEVENT
BEGIN:VEVENT
DTSTART;VALUE=DATE:20210302
DTEND;VALUE=DATE:20210306
DTSTAMP:20260423T065653
CREATED:20210928T174046Z
LAST-MODIFIED:20210928T174046Z
UID:1159-1614643200-1614988799@lpfairgrounds.com
SUMMARY:Clover Crop
DESCRIPTION:
URL:https://lpfairgrounds.com/event/clover-crop-2/
LOCATION:Small Projects A
END:VEVENT
BEGIN:VEVENT
DTSTART;TZID=America/Chicago:20210301T183000
DTEND;TZID=America/Chicago:20210301T183000
DTSTAMP:20260423T065653
CREATED:20210308T221836Z
LAST-MODIFIED:20210308T221836Z
UID:387-1614623400-1614623400@lpfairgrounds.com
SUMMARY:4-H: Horse & Pony Judging Team
DESCRIPTION:
URL:https://lpfairgrounds.com/event/4-h-horse-pony-judging-team-5/
END:VEVENT
BEGIN:VEVENT
DTSTART;TZID=America/Chicago:20210227T080000
DTEND;TZID=America/Chicago:20210227T080000
DTSTAMP:20260423T065653
CREATED:20210308T221836Z
LAST-MODIFIED:20210308T221836Z
UID:386-1614412800-1614412800@lpfairgrounds.com
SUMMARY:4-H: Archery Club
DESCRIPTION:
URL:https://lpfairgrounds.com/event/4-h-archery-club-4/
END:VEVENT
BEGIN:VEVENT
DTSTART;TZID=America/Chicago:20210225T180000
DTEND;TZID=America/Chicago:20210225T180000
DTSTAMP:20260423T065653
CREATED:20210308T221836Z
LAST-MODIFIED:20210308T221836Z
UID:385-1614276000-1614276000@lpfairgrounds.com
SUMMARY:4-H: Pleasant Clovers 4-H Club
DESCRIPTION:
URL:https://lpfairgrounds.com/event/4-h-pleasant-clovers-4-h-club/
END:VEVENT
BEGIN:VEVENT
DTSTART;TZID=America/Chicago:20210224T180000
DTEND;TZID=America/Chicago:20210224T180000
DTSTAMP:20260423T065653
CREATED:20210308T221836Z
LAST-MODIFIED:20210308T221836Z
UID:384-1614189600-1614189600@lpfairgrounds.com
SUMMARY:Fair Board Meeting
DESCRIPTION:
URL:https://lpfairgrounds.com/event/fair-board-meeting/
END:VEVENT
BEGIN:VEVENT
DTSTART;TZID=America/Chicago:20210223T173000
DTEND;TZID=America/Chicago:20210223T173000
DTSTAMP:20260423T065653
CREATED:20210308T221836Z
LAST-MODIFIED:20210308T221836Z
UID:383-1614101400-1614101400@lpfairgrounds.com
SUMMARY:4-H: Dog Club
DESCRIPTION:
URL:https://lpfairgrounds.com/event/4-h-dog-club-4/
END:VEVENT
BEGIN:VEVENT
DTSTART;TZID=America/Chicago:20210222T183000
DTEND;TZID=America/Chicago:20210222T183000
DTSTAMP:20260423T065653
CREATED:20210308T221821Z
LAST-MODIFIED:20210308T221821Z
UID:382-1614018600-1614018600@lpfairgrounds.com
SUMMARY:4-H: Horse & Pony Judging Team
DESCRIPTION:
URL:https://lpfairgrounds.com/event/4-h-horse-pony-judging-team-4/
END:VEVENT
BEGIN:VEVENT
DTSTART;TZID=America/Chicago:20210220T170000
DTEND;TZID=America/Chicago:20210220T170000
DTSTAMP:20260423T065653
CREATED:20210308T221821Z
LAST-MODIFIED:20210308T221821Z
UID:381-1613840400-1613840400@lpfairgrounds.com
SUMMARY:4-H: Archery Club
DESCRIPTION:
URL:https://lpfairgrounds.com/event/4-h-archery-club-3/
END:VEVENT
BEGIN:VEVENT
DTSTART;TZID=America/Chicago:20210218T183000
DTEND;TZID=America/Chicago:20210218T183000
DTSTAMP:20260423T065653
CREATED:20210308T221821Z
LAST-MODIFIED:20210308T221821Z
UID:380-1613673000-1613673000@lpfairgrounds.com
SUMMARY:4-H: Dog Committee
DESCRIPTION:
URL:https://lpfairgrounds.com/event/4-h-dog-committee/
END:VEVENT
BEGIN:VEVENT
DTSTART;TZID=America/Chicago:20210217T180000
DTEND;TZID=America/Chicago:20210217T180000
DTSTAMP:20260423T065653
CREATED:20210308T221821Z
LAST-MODIFIED:20210308T221821Z
UID:379-1613584800-1613584800@lpfairgrounds.com
SUMMARY:Superintendents’ Meeting
DESCRIPTION:
URL:https://lpfairgrounds.com/event/superintendents-meeting/
END:VEVENT
BEGIN:VEVENT
DTSTART;TZID=America/Chicago:20210216T173000
DTEND;TZID=America/Chicago:20210216T173000
DTSTAMP:20260423T065653
CREATED:20210308T221821Z
LAST-MODIFIED:20210308T221821Z
UID:378-1613496600-1613496600@lpfairgrounds.com
SUMMARY:4-H: Dog Club
DESCRIPTION:
URL:https://lpfairgrounds.com/event/4-h-dog-club-3/
END:VEVENT
BEGIN:VEVENT
DTSTART;TZID=America/Chicago:20210215T183000
DTEND;TZID=America/Chicago:20210215T183000
DTSTAMP:20260423T065653
CREATED:20210308T221806Z
LAST-MODIFIED:20210308T221806Z
UID:377-1613413800-1613413800@lpfairgrounds.com
SUMMARY:4-H: Horse & Pony Judging Team
DESCRIPTION:
URL:https://lpfairgrounds.com/event/4-h-horse-pony-judging-team-3/
END:VEVENT
BEGIN:VEVENT
DTSTART;VALUE=DATE:20210213
DTEND;VALUE=DATE:20210214
DTSTAMP:20260423T065653
CREATED:20210928T174046Z
LAST-MODIFIED:20210928T174046Z
UID:1158-1613174400-1613260799@lpfairgrounds.com
SUMMARY:Scrapbooking Event
DESCRIPTION:
URL:https://lpfairgrounds.com/event/scrapbooking-event-2/
LOCATION:Community Building
END:VEVENT
BEGIN:VEVENT
DTSTART;TZID=America/Chicago:20210211T183000
DTEND;TZID=America/Chicago:20210211T183000
DTSTAMP:20260423T065653
CREATED:20210308T221806Z
LAST-MODIFIED:20210308T221806Z
UID:376-1613068200-1613068200@lpfairgrounds.com
SUMMARY:4-H: Horse & Pony Committee
DESCRIPTION:
URL:https://lpfairgrounds.com/event/4-h-horse-pony-committee/
END:VEVENT
BEGIN:VEVENT
DTSTART;TZID=America/Chicago:20210210T183000
DTEND;TZID=America/Chicago:20210210T183000
DTSTAMP:20260423T065653
CREATED:20210308T221806Z
LAST-MODIFIED:20210308T221806Z
UID:375-1612981800-1612981800@lpfairgrounds.com
SUMMARY:4-H: Wagonmasters
DESCRIPTION:
URL:https://lpfairgrounds.com/event/4-h-wagonmasters/
END:VEVENT
BEGIN:VEVENT
DTSTART;TZID=America/Chicago:20210209T173000
DTEND;TZID=America/Chicago:20210209T173000
DTSTAMP:20260423T065653
CREATED:20210308T221806Z
LAST-MODIFIED:20210308T221806Z
UID:374-1612891800-1612891800@lpfairgrounds.com
SUMMARY:4-H: Dog Club
DESCRIPTION:
URL:https://lpfairgrounds.com/event/4-h-dog-club-2/
END:VEVENT
END:VCALENDAR