BEGIN:VCALENDAR
VERSION:2.0
PRODID:-//La Porte County Fairground Management and Event Center - ECPv6.13.2//NONSGML v1.0//EN
CALSCALE:GREGORIAN
METHOD:PUBLISH
X-WR-CALNAME:La Porte County Fairground Management and Event Center
X-ORIGINAL-URL:https://lpfairgrounds.com
X-WR-CALDESC:Events for La Porte County Fairground Management and Event Center
REFRESH-INTERVAL;VALUE=DURATION:PT1H
X-Robots-Tag:noindex
X-PUBLISHED-TTL:PT1H

BEGIN:VEVENT
DTSTART;VALUE=DATE:20150813
DTEND;VALUE=DATE:20150814
DTSTAMP:20260423T111517
CREATED:20210506T185736Z
LAST-MODIFIED:20210506T185736Z
UID:904-1439424000-1439510399@lpfairgrounds.com
SUMMARY:Fellowship Fest
DESCRIPTION:Pioneerland
URL:https://lpfairgrounds.com/event/fellowship-fest/
LOCATION:Pioneerland
CATEGORIES:Public
END:VEVENT
BEGIN:VEVENT
DTSTART;VALUE=DATE:20260423
DTEND;VALUE=DATE:19700102
DTSTAMP:20260423T111517
CREATED:20210812T155005Z
LAST-MODIFIED:20210812T155005Z
UID:1094-0-86399@lpfairgrounds.com
SUMMARY:Pioneerland Pork Chop Dinner
DESCRIPTION:
URL:https://lpfairgrounds.com/event/pioneerland-pork-chop-dinner/
LOCATION:Community Building
END:VEVENT
END:VCALENDAR